BEGIN:VCALENDAR
VERSION:2.0
PRODID:-//ChamberMaster//Event Calendar 2.0//EN
METHOD:PUBLISH
X-PUBLISHED-TTL:P3D
REFRESH-INTERVAL:P3D
CALSCALE:GREGORIAN
BEGIN:VEVENT
DTSTART:20120118T131500Z
DTEND:20120118T143000Z
X-MICROSOFT-CDO-ALLDAYEVENT:FALSE
SUMMARY:Morning Network
DESCRIPTION:Learn. Laugh. Connect. Jumpstart your day at Morning Network! This dynamic\, monthly event attracts 100+ people and includes power networking\, the SCORE business tip of the month and community-related news briefs.  Monthly Sponsors:Mel FosterValley Bank  Annual Sponsor: R.I.A. Federal Credit Union
X-ALT-DESC;FMTTYPE=text/html:<P><FONT size=2 face=Verdana>Learn. Laugh. Connect. Jumpstart your day at Morning Network! </FONT></P><P><FONT size=2 face=Verdana>This dynamic\, monthly event attracts 100+ people and includes power networking\, the SCORE business tip of the month and community-related news briefs. </FONT></P><P><STRONG><FONT size=2 face=Verdana></FONT></STRONG>&nbsp\;</P><P><STRONG><FONT size=2 face=Verdana>Monthly Sponsors:</FONT></STRONG></P><P><FONT size=2 face=Verdana>Mel Foster</FONT></P><P><FONT size=2 face=Verdana>Valley Bank </FONT></P><P>&nbsp\;</P><P><FONT size=2><FONT face=Verdana><STRONG>Annual Sponsor: </STRONG></FONT></FONT></P><P><FONT size=2><FONT face=Verdana>R.I.A. Federal Credit Union </FONT></FONT></P>
LOCATION:Stoney Creek Inn & Conference Center101 18th Street Moline\, IL 61265
UID:e.2843.190
SEQUENCE:3
DTSTAMP:20260421T043722Z
URL:https://member.quadcitieschamber.com/events/details/morning-network-01-18-2012-190
END:VEVENT

END:VCALENDAR
