BEGIN:VCALENDAR
VERSION:2.0
PRODID:-//ChamberMaster//Event Calendar 2.0//EN
METHOD:PUBLISH
X-PUBLISHED-TTL:P3D
REFRESH-INTERVAL:P3D
CALSCALE:GREGORIAN
BEGIN:VEVENT
DTSTART:20120215T131500Z
DTEND:20120215T143000Z
X-MICROSOFT-CDO-ALLDAYEVENT:FALSE
SUMMARY:Morning Network
DESCRIPTION:Hear from Rock Island Mayor Dennis Pauley\, get exciting details on the Chamber's upcoming events\, make new contacts during power networking & learn business tips from SCORE!
X-ALT-DESC;FMTTYPE=text/html:<P style="MARGIN: 0in 0in 0pt" class=MsoNormal><SPAN style="COLOR: red"><FONT size=2><FONT face=Tahoma><FONT color=#000000>Hear from Rock Island Mayor Dennis Pauley\, get exciting details on the Chamber's upcoming events\, make new contacts during power networking &amp\; learn business tips from SCORE!<?xml:namespace prefix = o ns = "urn:schemas-microsoft-com:office:office" /><o:p></o:p></FONT></FONT></FONT></SPAN></P><P><STRONG><FONT face=Tahoma></FONT></STRONG>&nbsp\;</P>
LOCATION:Jumer's Casino and Hotel777 Jumer Drive Rock Island\, IL 61201
UID:e.2843.226
SEQUENCE:3
DTSTAMP:20260422T092837Z
URL:https://member.quadcitieschamber.com/events/details/morning-network-02-15-2012-226
END:VEVENT

END:VCALENDAR
