BEGIN:VCALENDAR
VERSION:2.0
PRODID:-//ChamberMaster//Event Calendar 2.0//EN
METHOD:PUBLISH
X-PUBLISHED-TTL:P3D
REFRESH-INTERVAL:P3D
CALSCALE:GREGORIAN
BEGIN:VEVENT
DTSTART:20120321T121500Z
DTEND:20120321T133000Z
X-MICROSOFT-CDO-ALLDAYEVENT:FALSE
SUMMARY:Morning Network
DESCRIPTION:Connect with your Chamber colleagues at March's Morning Network featuring Kasey Kelly from the American Red Cross of the Quad Cities Area.  Come prepared for power networking\, the SCORE business tip of the month\, meet our newest members and much more!  Date: Wednesday\, March 21st Time: 7:15 a.m.Location: SouthPark Mall\, Younkers Court (Enter through the Dillard's/Red Ginger Door)Cost: $10 in advance\, $15 at-the-door for members\; $20 for non-members  Monthly Sponsor:Macerich SouthPark Mall  Series Sponsor:\nR.I.A. Federal Credit Union
X-ALT-DESC;FMTTYPE=text/html:<SPAN style="FONT-FAMILY: 'Tahoma'\,'sans-serif'\; FONT-SIZE: 10pt"><FONT size=3><FONT color=#000000><SPAN style="FONT-FAMILY: 'Calibri'\,'sans-serif'\; FONT-SIZE: 10pt\; mso-ascii-theme-font: minor-latin\; mso-hansi-theme-font: minor-latin\; mso-bidi-font-family: Tahoma"><P style="MARGIN: 0in 0in 0pt"><SPAN style="FONT-FAMILY: 'Calibri'\,'sans-serif'\; FONT-SIZE: 10pt\; mso-ascii-theme-font: minor-latin\; mso-hansi-theme-font: minor-latin\; mso-bidi-font-family: Tahoma">Connect with your Chamber colleagues at March's Morning Network featuring Kasey Kelly from the American Red Cross of the Quad Cities Area. <?xml:namespace prefix = o ns = "urn:schemas-microsoft-com:office:office" /><o:p></o:p></SPAN></P><P style="MARGIN: 0in 0in 0pt"><SPAN style="FONT-FAMILY: 'Calibri'\,'sans-serif'\; FONT-SIZE: 10pt\; mso-ascii-theme-font: minor-latin\; mso-hansi-theme-font: minor-latin\; mso-bidi-font-family: Tahoma"><o:p>&nbsp\;</o:p></SPAN></P><P style="MARGIN: 0in 0in 0pt"><SPAN style="FONT-FAMILY: 'Calibri'\,'sans-serif'\; FONT-SIZE: 10pt\; mso-ascii-theme-font: minor-latin\; mso-hansi-theme-font: minor-latin\; mso-bidi-font-family: Tahoma">Come prepared for power networking\, the SCORE business tip of the month\, meet our newest members and much more!</SPAN><SPAN style="FONT-FAMILY: 'Calibri'\,'sans-serif'\; FONT-SIZE: 10pt\; mso-ascii-theme-font: minor-latin\; mso-hansi-theme-font: minor-latin\; mso-bidi-font-family: Arial">&nbsp\;<o:p></o:p></SPAN></P><P style="MARGIN: 0in 0in 0pt"><SPAN style="FONT-FAMILY: 'Calibri'\,'sans-serif'\; FONT-SIZE: 10pt\; mso-ascii-theme-font: minor-latin\; mso-hansi-theme-font: minor-latin\; mso-bidi-font-family: Tahoma"><o:p>&nbsp\;</o:p></SPAN></P><P style="MARGIN: 0in 0in 0pt" class=MsoNoSpacing><STRONG><SPAN style="FONT-FAMILY: 'Calibri'\,'sans-serif'\; FONT-SIZE: 10pt\; mso-ascii-theme-font: minor-latin\; mso-hansi-theme-font: minor-latin\; mso-bidi-font-family: Tahoma">Date: </SPAN></STRONG><STRONG><SPAN style="FONT-FAMILY: 'Calibri'\,'sans-serif'\; FONT-SIZE: 10pt\; FONT-WEIGHT: normal\; mso-ascii-theme-font: minor-latin\; mso-hansi-theme-font: minor-latin\; mso-bidi-font-family: Tahoma\; mso-bidi-font-weight: bold">Wednesday\, March 21st </SPAN></STRONG><B style="mso-bidi-font-weight: normal"><SPAN style="FONT-SIZE: 10pt\; mso-bidi-font-family: 'Times New Roman'"><o:p></o:p></SPAN></B></P><P style="MARGIN: 0in 0in 0pt" class=MsoNoSpacing><STRONG><SPAN style="FONT-FAMILY: 'Calibri'\,'sans-serif'\; FONT-SIZE: 10pt\; mso-ascii-theme-font: minor-latin\; mso-hansi-theme-font: minor-latin\; mso-bidi-font-family: Tahoma">Time: </SPAN></STRONG><STRONG><SPAN style="FONT-FAMILY: 'Calibri'\,'sans-serif'\; FONT-SIZE: 10pt\; FONT-WEIGHT: normal\; mso-ascii-theme-font: minor-latin\; mso-hansi-theme-font: minor-latin\; mso-bidi-font-family: Tahoma\; mso-bidi-font-weight: bold">7:15 a.m.</SPAN></STRONG><SPAN style="FONT-SIZE: 10pt"><o:p></o:p></SPAN></P><P style="MARGIN: 0in 0in 0pt" class=MsoNoSpacing><STRONG><SPAN style="FONT-FAMILY: 'Calibri'\,'sans-serif'\; FONT-SIZE: 10pt\; mso-ascii-theme-font: minor-latin\; mso-hansi-theme-font: minor-latin\; mso-bidi-font-family: Tahoma">Location: </SPAN></STRONG><STRONG><SPAN style="FONT-FAMILY: 'Calibri'\,'sans-serif'\; FONT-SIZE: 10pt\; FONT-WEIGHT: normal\; mso-ascii-theme-font: minor-latin\; mso-hansi-theme-font: minor-latin\; mso-bidi-font-family: Tahoma\; mso-bidi-font-weight: bold">SouthPark Mall</SPAN></STRONG><STRONG><SPAN style="FONT-FAMILY: 'Calibri'\,'sans-serif'\; FONT-SIZE: 10pt\; mso-ascii-theme-font: minor-latin\; mso-hansi-theme-font: minor-latin\; mso-bidi-font-family: Tahoma">\, </SPAN></STRONG><SPAN style="FONT-SIZE: 10pt">Younkers Court (Enter through the Dillard's/Red Ginger Door)<o:p></o:p></SPAN></P><P style="MARGIN: 0in 0in 0pt" class=MsoNormal><B style="mso-bidi-font-weight: normal"><SPAN style="FONT-SIZE: 10pt">Cost:</SPAN></B><SPAN style="FONT-SIZE: 10pt"> $10 in advance\, $15 at-the-door for members\; $20 for non-members <o:p></o:p></SPAN></P><P style="MARGIN: 0in 0in 0pt" class=MsoNormal><SPAN style="FONT-SIZE: 10pt"><o:p>&nbsp\;</o:p></SPAN></P><P style="MARGIN: 0in 0in 0pt" class=MsoNormal><SPAN style="FONT-SIZE: 10pt"><STRONG>Monthly Sponsor:</STRONG></SPAN></P><P style="MARGIN: 0in 0in 0pt" class=MsoNormal><SPAN style="FONT-SIZE: 10pt"></SPAN><SPAN style="FONT-SIZE: 10pt">Macerich SouthPark Mall </SPAN></P><P style="MARGIN: 0in 0in 0pt" class=MsoNormal><SPAN style="FONT-SIZE: 10pt"></SPAN>&nbsp\;</P><P style="MARGIN: 0in 0in 0pt" class=MsoNormal><SPAN style="FONT-SIZE: 10pt"><o:p><STRONG>Series Sponsor</STRONG>:<BR>R.I.A. Federal Credit Union </o:p></SPAN></P><P style="MARGIN: 0in 0in 0pt"></SPAN></FONT></FONT></SPAN><FONT color=#000000><FONT size=3 face=Tahoma><SPAN style="FONT-FAMILY: 'Calibri'\,'sans-serif'\; COLOR: #1f497d\; FONT-SIZE: 11pt\; mso-bidi-font-family: 'Times New Roman'\; mso-fareast-font-family: Calibri\; mso-fareast-theme-font: minor-latin\; mso-ansi-language: EN-US\; mso-fareast-language: EN-US\; mso-bidi-language: AR-SA"><BR></SPAN></FONT></FONT></P>
LOCATION:Macerich Southpark Mall LLC4500 16th Street Moline\, IL 61265
UID:e.2843.227
SEQUENCE:3
DTSTAMP:20260422T061207Z
URL:https://member.quadcitieschamber.com/events/details/morning-network-03-21-2012-227
END:VEVENT

END:VCALENDAR
