BEGIN:VCALENDAR
VERSION:2.0
PRODID:-//ChamberMaster//Event Calendar 2.0//EN
METHOD:PUBLISH
X-PUBLISHED-TTL:P3D
REFRESH-INTERVAL:P3D
CALSCALE:GREGORIAN
BEGIN:VEVENT
DTSTART:20110921T121500Z
DTEND:20110921T133000Z
X-MICROSOFT-CDO-ALLDAYEVENT:FALSE
SUMMARY:Morning Network
DESCRIPTION:Quad Cities businesses and entrepreneurs will soon have access to a Patent and Trademark Resource Center - the only one of its kind serving western Illinois and the entire state of Iowa. Hear details of this exciting new service at Morning Network. Also meet our newest members\, network\, and get expert tips from SCORE!
X-ALT-DESC;FMTTYPE=text/html:<P style="MARGIN: 0in 0in 0pt"><SPAN style="FONT-FAMILY: 'Verdana'\,'sans-serif'\; COLOR: #333333\; FONT-SIZE: 10pt">Quad Cities businesses and entrepreneurs will soon have access to a Patent and Trademark Resource Center - the only one of its kind serving western Illinois and the entire state of Iowa. Hear details of this exciting new service at Morning Network.<?xml:namespace prefix = o ns = "urn:schemas-microsoft-com:office:office" /><o:p></o:p></SPAN></P><P style="MARGIN: 0in 0in 0pt"><SPAN style="FONT-FAMILY: 'Verdana'\,'sans-serif'\; COLOR: #333333\; FONT-SIZE: 10pt">&nbsp\;<o:p></o:p></SPAN></P><P style="MARGIN: 0in 0in 0pt"><SPAN style="FONT-FAMILY: 'Verdana'\,'sans-serif'\; COLOR: #333333\; FONT-SIZE: 10pt">Also meet our newest members\, network\, and get expert tips from SCORE!&nbsp\;<o:p></o:p></SPAN></P><P><STRONG></STRONG></P>
LOCATION:Plumber's & Pipefitter's Local #254600 46th Avenue Rock Island\, IL 61201
UID:e.2843.182
SEQUENCE:3
DTSTAMP:20260422T142837Z
URL:https://member.quadcitieschamber.com/events/details/morning-network-09-21-2011-182
END:VEVENT

END:VCALENDAR
