BEGIN:VCALENDAR
VERSION:2.0
PRODID:-//ChamberMaster//Event Calendar 2.0//EN
METHOD:PUBLISH
X-PUBLISHED-TTL:P3D
REFRESH-INTERVAL:P3D
CALSCALE:GREGORIAN
BEGIN:VEVENT
DTSTART:20111116T131500Z
DTEND:20111116T143000Z
X-MICROSOFT-CDO-ALLDAYEVENT:FALSE
SUMMARY:Morning Network
DESCRIPTION:Hear from the newly elected Bettendorf Mayor at this month's Morning Network - plus meet our newest members\, hear community-related news\, and SCORE's Small Business tip of the month.  Location: The Fountains Senior Living Community Date: 11/16/2011Time: 7:15 a.m.Cost: $10 pre-paid\, $15 at-the-door for members\; $20 for non-members Monthly Sponsors:Trinity Regional Health SystemThe Fountains Senior Living Community  Annual Sponsor: R.I.A. Federal Credit Union
X-ALT-DESC;FMTTYPE=text/html:<P><FONT face=Tahoma>Hear from the newly elected Bettendorf Mayor at this month's Morning Network - plus meet our newest members\, hear community-related news\,&nbsp\;and SCORE's Small Business tip of the month. </FONT></P><P>&nbsp\;</P><P><FONT face=Tahoma><STRONG>Location</STRONG>: The Fountains Senior Living Community </FONT></P><P><FONT face=Tahoma><STRONG>Date</STRONG>: 11/16/2011</FONT></P><P><FONT face=Tahoma><STRONG>Time</STRONG>: 7:15 a.m.</FONT></P><P><FONT face=Tahoma><STRONG>Cost</STRONG>: $10 pre-paid\, $15 at-the-door for members\; $20 for non-members</FONT></P><P>&nbsp\;</P><P><FONT face=Tahoma><STRONG>Monthly Sponsors</STRONG>:</FONT></P><P><FONT face=Tahoma>Trinity Regional Health System</FONT></P><P><FONT face=Tahoma>The Fountains Senior Living Community </FONT></P><P><FONT face=Tahoma></FONT>&nbsp\;</P><P><FONT face=Tahoma><STRONG>Annual Sponsor</STRONG>: </FONT></P><P><FONT face=Tahoma>R.I.A. Federal Credit Union </FONT></P>
LOCATION:The Fountains Senior Living Community3752 Thunder Ridge Rd. Bettendorf\, IA 52722
UID:e.2843.285
SEQUENCE:3
DTSTAMP:20260422T110835Z
URL:https://member.quadcitieschamber.com/events/details/morning-network-11-16-2011-285
END:VEVENT

END:VCALENDAR
