BEGIN:VCALENDAR
VERSION:2.0
PRODID:-//ChamberMaster//Event Calendar 2.0//EN
METHOD:PUBLISH
X-PUBLISHED-TTL:P3D
REFRESH-INTERVAL:P3D
CALSCALE:GREGORIAN
BEGIN:VEVENT
DTSTART:20111214T131500Z
DTEND:20111214T143000Z
X-MICROSOFT-CDO-ALLDAYEVENT:FALSE
SUMMARY:Morning Network
DESCRIPTION:Hear how easy it is to boost to the local economy with our shop-local holiday gift ideas! Also meet our newest members\, hear community news\, network and see who will win the SCORE Small Business of the Year Award!
X-ALT-DESC;FMTTYPE=text/html:<P style="MARGIN: 0in 0in 0pt"><SPAN style="FONT-FAMILY: 'Verdana'\,'sans-serif'\; COLOR: #333333\; FONT-SIZE: 10pt">Hear how easy it is to&nbsp\;boost to&nbsp\;the&nbsp\;local economy with our shop-local holiday gift ideas!&nbsp\;</SPAN><SPAN style="FONT-FAMILY: 'Verdana'\,'sans-serif'\; COLOR: black\; FONT-SIZE: 10pt">Also meet our newest members\, hear community news\, network and see who will win the SCORE Small Business of the Year Award!</SPAN></P>
LOCATION:MetroLINK1515 River Drive Moline\, IL 61265
UID:e.2843.313
SEQUENCE:3
DTSTAMP:20260422T110012Z
URL:https://member.quadcitieschamber.com/events/details/morning-network-12-14-2011-313
END:VEVENT

END:VCALENDAR
