BEGIN:VCALENDAR
VERSION:2.0
PRODID:-//ChamberMaster//Event Calendar 2.0//EN
METHOD:PUBLISH
X-PUBLISHED-TTL:P3D
REFRESH-INTERVAL:P3D
CALSCALE:GREGORIAN
BEGIN:VEVENT
DTSTART:20130918T121500Z
DTEND:20130918T133000Z
X-MICROSOFT-CDO-ALLDAYEVENT:FALSE
SUMMARY:Morning Network: Dream Big
DESCRIPTION:
X-ALT-DESC;FMTTYPE=text/html:
LOCATION:Happy Joe's201 W. 50th St. Davenport\, IA 52806
UID:e.2843.649
SEQUENCE:3
DTSTAMP:20260421T201207Z
URL:https://member.quadcitieschamber.com/events/details/morning-network-dream-big-09-18-2013-649
END:VEVENT

END:VCALENDAR
