BEGIN:VCALENDAR
VERSION:2.0
PRODID:-//ChamberMaster//Event Calendar 2.0//EN
METHOD:PUBLISH
X-PUBLISHED-TTL:P3D
REFRESH-INTERVAL:P3D
CALSCALE:GREGORIAN
BEGIN:VEVENT
DTSTART:20131211T131500Z
DTEND:20131211T143000Z
X-MICROSOFT-CDO-ALLDAYEVENT:FALSE
SUMMARY:Morning Network: Illinois Gubernatorial Forum
DESCRIPTION:Candidates vying for the position of Governor of Illinois will discuss the most pressing issues impacting businesses at Morning Network on Wednesday\, December 11 at the iWireless Center. Conversation will focus on the state budget\, business climate\, pension reform\, education and workforce\, transportation and infrastructure\, taxes and regulations\, and economic development. Dan Rutherford - Illinois State Treasurer\, Kirk Dillard - Illinois State Senator\, Bill Brady - Illinois State Senator\, Bruce Raunder - Illinois businessman\, and Governor Pat Quinn have been invited to participate. The panel will be moderated by Jim Mertens\, and the audience will have the opportunity to submit questions.
X-ALT-DESC;FMTTYPE=text/html:<DIV><SPAN style="FONT-FAMILY: 'Tahoma'\,'sans-serif'\; COLOR: black\; FONT-SIZE: 10pt\; mso-fareast-font-family: Calibri\; mso-fareast-theme-font: minor-latin\; mso-ansi-language: EN-US\; mso-fareast-language: EN-US\; mso-bidi-language: AR-SA">Candidates vying for the position of Governor of Illinois will discuss the most pressing issues impacting businesses at Morning Network on Wednesday\, December 11 at the iWireless Center. Conversation will focus on the state budget\, business climate\, pension reform\, education and workforce\, transportation and infrastructure\, taxes and regulations\, and economic development. Dan Rutherford - Illinois State Treasurer\, Kirk Dillard - Illinois State Senator\, Bill Brady - Illinois State Senator\, Bruce Raunder&nbsp\;- Illinois businessman\, and Governor Pat Quinn have been invited to participate. The panel will be moderated by Jim Mertens\, and the audience will have the opportunity to submit questions.</SPAN></DIV><DIV><SPAN style="FONT-FAMILY: 'Tahoma'\,'sans-serif'\; COLOR: black\; FONT-SIZE: 10pt\; mso-fareast-font-family: Calibri\; mso-fareast-theme-font: minor-latin\; mso-ansi-language: EN-US\; mso-fareast-language: EN-US\; mso-bidi-language: AR-SA"></SPAN>&nbsp\;</DIV><DIV><SPAN style="FONT-FAMILY: 'Tahoma'\,'sans-serif'\; COLOR: black\; FONT-SIZE: 10pt\; mso-fareast-font-family: Calibri\; mso-fareast-theme-font: minor-latin\; mso-ansi-language: EN-US\; mso-fareast-language: EN-US\; mso-bidi-language: AR-SA"></SPAN>&nbsp\;</DIV>
LOCATION:iWireless Center1201 River Drive Moline\, IL 612651303
UID:e.2843.680
SEQUENCE:3
DTSTAMP:20260421T234916Z
URL:https://member.quadcitieschamber.com/events/details/morning-network-illinois-gubernatorial-forum-12-11-2013-680
END:VEVENT

END:VCALENDAR
