BEGIN:VCALENDAR
VERSION:2.0
PRODID:-//ChamberMaster//Event Calendar 2.0//EN
METHOD:PUBLISH
X-PUBLISHED-TTL:P3D
REFRESH-INTERVAL:P3D
CALSCALE:GREGORIAN
BEGIN:VEVENT
DTSTART:20090819T050000Z
DTEND:20090819T050000Z
X-MICROSOFT-CDO-ALLDAYEVENT:FALSE
SUMMARY:Morning Network - New Members
DESCRIPTION:Morning Network - New Members
X-ALT-DESC;FMTTYPE=text/html:Morning Network - New Members
LOCATION:
UID:e.2843.3759
SEQUENCE:3
DTSTAMP:20260424T044517Z
URL:https://member.quadcitieschamber.com/events/details/morning-network-new-members-08-19-2009-3759
END:VEVENT

END:VCALENDAR
