BEGIN:VCALENDAR
VERSION:2.0
PRODID:-//ChamberMaster//Event Calendar 2.0//EN
METHOD:PUBLISH
X-PUBLISHED-TTL:P3D
REFRESH-INTERVAL:P3D
CALSCALE:GREGORIAN
BEGIN:VEVENT
DTSTART:20091216T060000Z
DTEND:20091216T060000Z
X-MICROSOFT-CDO-ALLDAYEVENT:FALSE
SUMMARY:Morning Network - NEW MEMBERS
DESCRIPTION:Morning Network - NEW MEMBERS
X-ALT-DESC;FMTTYPE=text/html:Morning Network - NEW MEMBERS
LOCATION:
UID:e.2843.3800
SEQUENCE:3
DTSTAMP:20260424T121622Z
URL:https://member.quadcitieschamber.com/events/details/morning-network-new-members-12-16-2009-3800
END:VEVENT

END:VCALENDAR
