BEGIN:VCALENDAR
VERSION:2.0
PRODID:-//ChamberMaster//Event Calendar 2.0//EN
METHOD:PUBLISH
X-PUBLISHED-TTL:P3D
REFRESH-INTERVAL:P3D
CALSCALE:GREGORIAN
BEGIN:VEVENT
DTSTART:20090520T050000Z
DTEND:20090520T050000Z
X-MICROSOFT-CDO-ALLDAYEVENT:FALSE
SUMMARY:Morning Network - PAY AT DOOR
DESCRIPTION:Morning Network - PAY AT DOOR
X-ALT-DESC;FMTTYPE=text/html:Morning Network - PAY AT DOOR
LOCATION:
UID:e.2843.3699
SEQUENCE:3
DTSTAMP:20260424T090550Z
URL:https://member.quadcitieschamber.com/events/details/morning-network-pay-at-door-05-20-2009-3699
END:VEVENT

END:VCALENDAR
