BEGIN:VCALENDAR
VERSION:2.0
PRODID:-//ChamberMaster//Event Calendar 2.0//EN
METHOD:PUBLISH
X-PUBLISHED-TTL:P3D
REFRESH-INTERVAL:P3D
CALSCALE:GREGORIAN
BEGIN:VEVENT
DTSTART:20091111T060000Z
DTEND:20091111T060000Z
X-MICROSOFT-CDO-ALLDAYEVENT:FALSE
SUMMARY:Morning Network - PAY AT DOOR
DESCRIPTION:Morning Network - PAY AT DOOR
X-ALT-DESC;FMTTYPE=text/html:Morning Network - PAY AT DOOR
LOCATION:
UID:e.2843.3734
SEQUENCE:3
DTSTAMP:20260424T090630Z
URL:https://member.quadcitieschamber.com/events/details/morning-network-pay-at-door-11-11-2009-3734
END:VEVENT

END:VCALENDAR
