BEGIN:VCALENDAR
VERSION:2.0
PRODID:-//ChamberMaster//Event Calendar 2.0//EN
METHOD:PUBLISH
X-PUBLISHED-TTL:P3D
REFRESH-INTERVAL:P3D
CALSCALE:GREGORIAN
BEGIN:VEVENT
DTSTART:20091021T050000Z
DTEND:20091021T050000Z
X-MICROSOFT-CDO-ALLDAYEVENT:FALSE
SUMMARY:Morning Network - Prepaids
DESCRIPTION:Morning Network - Prepaids
X-ALT-DESC;FMTTYPE=text/html:Morning Network - Prepaids
LOCATION:
UID:e.2843.3771
SEQUENCE:3
DTSTAMP:20260424T073444Z
URL:https://member.quadcitieschamber.com/events/details/morning-network-prepaids-10-21-2009-3771
END:VEVENT

END:VCALENDAR
