BEGIN:VCALENDAR
VERSION:2.0
PRODID:-//ChamberMaster//Event Calendar 2.0//EN
METHOD:PUBLISH
X-PUBLISHED-TTL:P3D
REFRESH-INTERVAL:P3D
CALSCALE:GREGORIAN
BEGIN:VEVENT
DTSTART:20131120T131500Z
DTEND:20131120T143000Z
X-MICROSOFT-CDO-ALLDAYEVENT:FALSE
SUMMARY:Morning Network: Transportation Transformation
DESCRIPTION:What should your business expect during the transformation of the I-74 Bridge? Join Doug Rick\, I-74 project manager\, Iowa Department of Transportation\, and Quad Cities representatives as they keep you informed about what to expect as the project unfolds. Learn about street conversions\, relocated businesses and how this project will transform transportation ‘In the Q.’
X-ALT-DESC;FMTTYPE=text/html:<P style="MARGIN: 0in 0in 0pt" class=MsoNormal><FONT size=2><FONT face=Georgia><SPAN style="mso-bidi-font-size: 10.0pt">What should your business expect during the transformation of the I-74 Bridge? Join Doug Rick\, </SPAN><SPAN style="BACKGROUND: white\; COLOR: black\; mso-bidi-font-size: 10.0pt\; mso-bidi-font-family: Arial">I-74 project manager<SPAN class=apple-converted-space>\, </SPAN>Iowa Department of Transportation\, and Quad Cities representatives as they keep you informed about what to expect as the project unfolds. Learn about street conversions\, relocated businesses and how this project will transform transportation ‘In the Q.’ </SPAN></FONT></FONT><SPAN style="BACKGROUND: yellow\; mso-bidi-font-size: 10.0pt\; mso-highlight: yellow"><?xml:namespace prefix = o ns = "urn:schemas-microsoft-com:office:office" /><o:p></o:p></SPAN></P><DIV>&nbsp\;</DIV>
LOCATION:MetroLINK1200 River Drive Moline\, IL 61265
UID:e.2843.678
SEQUENCE:3
DTSTAMP:20260421T234839Z
URL:https://member.quadcitieschamber.com/events/details/morning-network-transportation-transformation-11-20-2013-678
END:VEVENT

END:VCALENDAR
