BEGIN:VCALENDAR
VERSION:2.0
PRODID:-//ChamberMaster//Event Calendar 2.0//EN
METHOD:PUBLISH
X-PUBLISHED-TTL:P3D
REFRESH-INTERVAL:P3D
CALSCALE:GREGORIAN
BEGIN:VEVENT
DTSTART:20120814T140000Z
DTEND:20120814T143000Z
X-MICROSOFT-CDO-ALLDAYEVENT:FALSE
SUMMARY:Mylee's Restaurant Ribbon Cutting
DESCRIPTION:Please help celebrate new member\, Mylee’s Restaurant\, at a ribbon cutting on Tuesday\, August 14th at 9:00am.  Located at 3408 State Street in Bettendorf. Immediately following the ribbon cutting will be The Taste of Mylee’s\, an opportunity to sample some of Mylee’s signature items. Mylee’s is a great family restaurant serving breakfast and lunch.  They offer great prices with hearty portions.  They also have a warm atmosphere the whole family will love.  Mylee’s offers the experience every customer deserves – friendly service\, warm food and a smile.  In addition\, they are offering their facility for after-hours private parties and special events.
X-ALT-DESC;FMTTYPE=text/html:<P style="MARGIN: 0in 0in 0pt" class=MsoNormal><FONT face=Calibri>Please help celebrate new member\, Mylee’s Restaurant\, at a ribbon cutting on Tuesday\, August 14<SUP>th</SUP> at 9:00am.<SPAN style="mso-spacerun: yes">&nbsp\; </SPAN>Located at 3408 State Street in Bettendorf. Immediately following the ribbon cutting will be The Taste of Mylee’s\, an opportunity to sample some of Mylee’s signature items.</FONT></P><P style="MARGIN: 0in 0in 0pt" class=MsoNormal><?xml:namespace prefix = o ns = "urn:schemas-microsoft-com:office:office" /><o:p><FONT face=Calibri>&nbsp\;</FONT></o:p></P><P style="MARGIN: 0in 0in 0pt" class=MsoNormal><FONT face=Calibri>Mylee’s is a great family restaurant serving breakfast and lunch.<SPAN style="mso-spacerun: yes">&nbsp\; </SPAN>They offer great prices with hearty portions.<SPAN style="mso-spacerun: yes">&nbsp\; </SPAN>They also have a warm atmosphere the whole family will love.<SPAN style="mso-spacerun: yes">&nbsp\; </SPAN>Mylee’s offers the experience every customer deserves – friendly service\, warm food and a smile.<SPAN style="mso-spacerun: yes">&nbsp\; </SPAN>In addition\, they are offering their facility for after-hours private parties and special events.</FONT></P><DIV style="FONT-FAMILY: Arial">&nbsp\;</DIV>
LOCATION:
UID:e.2843.414
SEQUENCE:3
DTSTAMP:20260421T202041Z
URL:https://member.quadcitieschamber.com/events/details/mylee-s-restaurant-ribbon-cutting-08-14-2012-414
END:VEVENT

END:VCALENDAR
