BEGIN:VCALENDAR
VERSION:2.0
PRODID:-//ChamberMaster//Event Calendar 2.0//EN
METHOD:PUBLISH
X-PUBLISHED-TTL:P3D
REFRESH-INTERVAL:P3D
CALSCALE:GREGORIAN
BEGIN:VEVENT
DTSTART:20140722T163000Z
DTEND:20140722T170000Z
X-MICROSOFT-CDO-ALLDAYEVENT:FALSE
SUMMARY:Na Na's Chicken-N-Fish Grand Opening Ribbon Cutting
DESCRIPTION:Na Na’s Chicken-N-Fish\, located at 1834 18th Ave. East Moline\, IL 61244\, will host a grand opening ribbon cutting on Tuesday\, July 22nd at 11:30am. Na Na’s Chicken-N-Fish is a take-out only restaurant that specializes in serving Fried chicken and fish.  Owner James Goodson is excited about the opening of his new business in East Moline and is looking forward to many years of success.
X-ALT-DESC;FMTTYPE=text/html:<FONT face=Calibri><P style="MARGIN: 0in 0in 0pt" class=MsoNormal>Na Na’s Chicken-N-Fish\, located at 1834 18<SUP>th</SUP> Ave. East Moline\, IL 61244\, will host a grand opening ribbon cutting on Tuesday\, July 22<SUP>nd</SUP> at 11:30am.<?xml:namespace prefix = o ns = "urn:schemas-microsoft-com:office:office" /><o:p></o:p></P><P style="MARGIN: 0in 0in 0pt" class=MsoNormal><o:p>&nbsp\;</o:p></P><P style="MARGIN: 0in 0in 0pt" class=MsoNormal>Na Na’s Chicken-N-Fish is a take-out only restaurant that specializes in serving Fried chicken and fish.<SPAN style="mso-spacerun: yes">&nbsp\; </SPAN>Owner James Goodson is excited about the opening of his new business in East Moline and is looking forward to many years of success.<SPAN style="mso-spacerun: yes">&nbsp\; </SPAN><o:p></o:p></P><P style="MARGIN: 0in 0in 0pt" class=MsoNormal>&nbsp\;</P></FONT>
LOCATION:Na Na's Chicken -n- Fish1834 18th Ave. East Moline\, IL 61244
UID:e.2843.825
SEQUENCE:3
DTSTAMP:20260422T141226Z
URL:https://member.quadcitieschamber.com/events/details/na-na-s-chicken-n-fish-grand-opening-ribbon-cutting-07-22-2014-825
END:VEVENT

END:VCALENDAR
