BEGIN:VCALENDAR
VERSION:2.0
PRODID:-//ChamberMaster//Event Calendar 2.0//EN
METHOD:PUBLISH
X-PUBLISHED-TTL:P3D
REFRESH-INTERVAL:P3D
CALSCALE:GREGORIAN
BEGIN:VEVENT
DTSTART:20180425T123000Z
DTEND:20180425T143000Z
X-MICROSOFT-CDO-ALLDAYEVENT:FALSE
SUMMARY:NAI Ruhl Commercial Company Annual Market Report Event
DESCRIPTION:This significant\, invitation-only event will showcase the findings from our market report including recent sales and leasing activity\, vacancy rates\, lease rates and trends in our market place. Many local investors\, property owners\, bankers\, government officials\, business owners and community leaders will be in attendance for a unique opportunity to gain insight into what is happening in commercial real estate and how that effects the Quad-Cities region. Attendees will receive a FREE breakfast and will be entered into a drawing. *Must be present to win. You MUST RSVP to attend.
X-ALT-DESC;FMTTYPE=text/html:This significant\, invitation-only event will showcase the findings from our market report including recent sales and leasing activity\, vacancy rates\, lease rates and trends in our market place. Many local investors\, property owners\, bankers\, government officials\, business owners and community leaders will be in attendance for a unique opportunity to gain insight into what is happening in commercial real estate and how that effects the Quad-Cities region. Attendees will receive a FREE breakfast and will be entered into a drawing. *Must be present to win. You MUST RSVP to attend.
LOCATION:Quad Cities Waterfront Convention Center\, 2021 State St\, Bettendorf\, IA 52722
UID:e.2843.10060
SEQUENCE:3
DTSTAMP:20260423T123611Z
URL:https://member.quadcitieschamber.com/events/details/nai-ruhl-commercial-company-annual-market-report-event-10060
END:VEVENT

END:VCALENDAR
