BEGIN:VCALENDAR
VERSION:2.0
PRODID:-//ChamberMaster//Event Calendar 2.0//EN
METHOD:PUBLISH
X-PUBLISHED-TTL:P3D
REFRESH-INTERVAL:P3D
CALSCALE:GREGORIAN
BEGIN:VEVENT
DTSTART:20130529T180000Z
DTEND:20130529T183000Z
X-MICROSOFT-CDO-ALLDAYEVENT:FALSE
SUMMARY:NAPA Premier Parts\, Inc. Ribbon Cutting
DESCRIPTION:Please help celebrate new business NAPA Premier Parts\, Inc. with a ribbon cutting on Wednesday\, May 29th at 1:00pm – Located at 3536 Brady Street in Davenport\, across from Brady Street Stadium. NAPA Premier Parts\, Inc. have ASE Certified Parts Specialists on staff\, stock an extensive line of Altrom Import Parts\, and carry heavy duty truck parts. Please visit www.napapremierparts.com.
X-ALT-DESC;FMTTYPE=text/html:<P style="MARGIN: 0in 0in 0pt" class=MsoNormal><FONT face=Calibri>Please help celebrate new business NAPA Premier Parts\, Inc. with a ribbon cutting on <B>Wednesday\, May 29<SUP>th</SUP> at 1:00pm</B> – Located at 3536 Brady Street in Davenport\, across from Brady Street Stadium.<?xml:namespace prefix = o ns = "urn:schemas-microsoft-com:office:office" /><o:p></o:p></FONT></P><P style="MARGIN: 0in 0in 0pt" class=MsoNormal><o:p><FONT face=Calibri>&nbsp\;</FONT></o:p></P><P style="MARGIN: 0in 0in 0pt" class=MsoNormal><FONT face=Calibri>NAPA Premier Parts\, Inc. have ASE Certified Parts Specialists on staff\, stock an extensive line of Altrom Import Parts\, and carry heavy duty truck parts.<o:p></o:p></FONT></P><P style="MARGIN: 0in 0in 0pt" class=MsoNormal><o:p><FONT face=Calibri>&nbsp\;</FONT></o:p></P><P style="MARGIN: 0in 0in 0pt" class=MsoNormal><FONT face=Calibri>Please visit </FONT><A href="http://www.napapremierparts.com"><FONT face=Calibri>www.napapremierparts.com</FONT></A><FONT face=Calibri>.<o:p></o:p></FONT></P><DIV style="FONT-FAMILY: Arial">&nbsp\;</DIV>
LOCATION:NAPA Premier Parts\, Inc.3536 Brady Street Davenport\, IA 52806
UID:e.2843.563
SEQUENCE:3
DTSTAMP:20260421T134956Z
URL:https://member.quadcitieschamber.com/events/details/napa-premier-parts-inc-ribbon-cutting-05-29-2013-563
END:VEVENT

END:VCALENDAR
