BEGIN:VCALENDAR
VERSION:2.0
PRODID:-//ChamberMaster//Event Calendar 2.0//EN
METHOD:PUBLISH
X-PUBLISHED-TTL:P3D
REFRESH-INTERVAL:P3D
CALSCALE:GREGORIAN
BEGIN:VEVENT
DTSTART:20171207T003000Z
DTEND:20171207T013000Z
X-MICROSOFT-CDO-ALLDAYEVENT:FALSE
SUMMARY:Naughty or Nice? (Stress/Anxiety)
DESCRIPTION:Don't be on the naughty list this Holiday season! Get yourself on the night list by letting go of your stress and anxieties so you an enjoy yourself as the fun and festivities of the holidays rolls around! Want to know how? \n\n\n\nGive yourself the peace of mind you deserve! Come to our next Health Talk where Heather and Jenna will be discussing causes behind stress and anxiety\, how stress affects our bodies\, and how a holistic approach can help!
X-ALT-DESC;FMTTYPE=text/html:<span style="color:rgb(75\, 79\, 86)\; font-family:sf optimized\,system-ui\,-apple-system\,system-ui\,.sfnstext-regular\,sans-serif\; font-size:14px">Don&#39\;t be on the naughty list this Holiday season! Get yourself on the night list by letting go of your stress and anxieties so you an enjoy yourself as the fun and festivities of the holidays rolls around! Want to know how?&nbsp\;</span><br />\n<br />\n<span style="color:rgb(75\, 79\, 86)\; font-family:sf optimized\,system-ui\,-apple-system\,system-ui\,.sfnstext-regular\,sans-serif\; font-size:14px">Give yourself the peace of mind you deserve! Come to our next Health Talk where&nbsp\;</span><a href="https://www.facebook.com/heather.h.larsen.7" style="color: rgb(54\, 88\, 153)\; cursor: pointer\; text-decoration-line: none\; font-family: &quot\;SF Optimized&quot\;\, system-ui\, -apple-system\, system-ui\, &quot\;.SFNSText-Regular&quot\;\, sans-serif\; font-size: 14px\; letter-spacing: -0.12px\;">Heather</a><span style="color:rgb(75\, 79\, 86)\; font-family:sf optimized\,system-ui\,-apple-system\,system-ui\,.sfnstext-regular\,sans-serif\; font-size:14px">&nbsp\;and&nbsp\;</span><a href="https://www.facebook.com/profile.php?id=1015507960" style="color: rgb(54\, 88\, 153)\; cursor: pointer\; text-decoration-line: none\; font-family: &quot\;SF Optimized&quot\;\, system-ui\, -apple-system\, system-ui\, &quot\;.SFNSText-Regular&quot\;\, sans-serif\; font-size: 14px\; letter-spacing: -0.12px\;">Jenna</a><span style="color:rgb(75\, 79\, 86)\; font-family:sf optimized\,system-ui\,-apple-system\,system-ui\,.sfnstext-regular\,sans-serif\; font-size:14px">&nbsp\;will be discussing causes behind stress and anxiety\, how stress affects our bodies\, and how a holistic approach can help!</span>
LOCATION:NutritionWorks Holistic Health 2255 Kimberly Road Bettendorf\, IA 52722
UID:e.2843.8830
SEQUENCE:3
DTSTAMP:20260423T181807Z
URL:https://member.quadcitieschamber.com/events/details/naughty-or-nice-stress-anxiety-8830
END:VEVENT

END:VCALENDAR
