BEGIN:VCALENDAR
VERSION:2.0
PRODID:-//ChamberMaster//Event Calendar 2.0//EN
METHOD:PUBLISH
X-PUBLISHED-TTL:P3D
REFRESH-INTERVAL:P3D
CALSCALE:GREGORIAN
BEGIN:VEVENT
DTSTART:20170803T223000Z
DTEND:20170804T003000Z
X-MICROSOFT-CDO-ALLDAYEVENT:FALSE
SUMMARY:Net @ Night: Summer Soiree at The Outing Club Country Club (August 2017)
DESCRIPTION:Summer Soiree!\n\n\n\nJoin us for a special Network @ Night at the Outing Club! Mix and mingle inside or outside of the pool\, enjoy hors d'oeuvres\, sip on a cocktail or mocktail (if you are under 21). Bring some friends\, expand your network and partake in some good old fashioned Quad Citizen fun!  All ages welcome!\n\n\n\n \n\nApproximately 100 YPs attend this monthly event. \n\n \n\n*If you need any special requirements to attend this meeting please contact\n\nOlivia Bussert at obussert@quadcitieschamber.com*\n\n \n\n*If you work for a company that is a member of the Chamber\, you are automatically a member of YPQC and attend at YPQC member prices. If your company is not a member of the Chamber\, you can join YPQC separately for $50/year. Contact Greg Aguilar at gaguilar@quadcitieschamber.com or 563.823.2659.
X-ALT-DESC;FMTTYPE=text/html:<div style="FONT-FAMILY: Arial">\n<p align="left"><strong><span style="font-size:20px\;"><span style="font-family: arial\; background-color: rgb(255\, 255\, 255)\;">Su</span><span style="font-family: arial\; background-color: rgb(255\, 255\, 255)\;">mmer Soiree!</span></span></strong><br />\n<br />\n<span style="font-size:14px\;"><span style="font-family:arial\;"><span style="color:#000000\;"><span style="background:white\;"><span style="font-size:16px\;">Join us for a special Network @ Night at the Outing Club! Mix and mingle inside or outside of the pool\, enjoy hors d&#39\;oeuvres\, sip on a cocktail or mocktail (if you are under 21). Bring some friends\, expand your network and partake in some good old fashioned Quad Citizen fun! &nbsp\;All ages welcome!</span></span></span></span><br />\n<br style="font-family: arial\; font-size: 16px\;" />\n<span style="font-size:16px\;"><span style="font-family: arial\;">&nbsp\;</span><br style="font-family: arial\; font-size: 16px\;" />\n<span style="font-family: arial\; background-size: initial\; background-origin: initial\; background-clip: initial\;"><span style="color: black\;"><span new="" style="background-size: initial\; background-origin: initial\; background-clip: initial\;" times="">Approximately 100 YPs attend this monthly event. </span></span></span><br style="font-family: arial\; font-size: 16px\;" />\n<span style="font-family: arial\;">&nbsp\;</span><br style="font-family: arial\; font-size: 16px\;" />\n<span style="font-family: arial\; background-size: initial\; background-origin: initial\; background-clip: initial\;"><span style="color: black\;"><span new="" style="background-size: initial\; background-origin: initial\; background-clip: initial\;" times="">*If you need any special requirements to attend this meeting please contact<br />\nOlivia&nbsp\;Bussert&nbsp\;at&nbsp\;obussert@quadcitieschamber.com*</span></span></span><br style="font-family: arial\; font-size: 16px\;" />\n<span style="font-family: arial\;">&nbsp\;</span><br style="font-family: arial\; font-size: 16px\;" />\n<span style="font-family: arial\; background-size: initial\; background-origin: initial\; background-clip: initial\;"><span style="color: black\;"><span style="background-size: initial\; background-origin: initial\; background-clip: initial\;"><span style="color: rgb(20\, 24\, 35)\;">*If you work for a company that is a member of the Chamber\, you are automatically a member of&nbsp\;<span data-scayt-lang="en_US" data-scayt-word="YPQC" style="background-image: none\;">YPQC</span>&nbsp\;and attend at&nbsp\;<span data-scayt-lang="en_US" data-scayt-word="YPQC" style="background-image: none\;">YPQC</span>&nbsp\;member prices. If your company is not a member of the Chamber\, you can join&nbsp\;<span data-scayt-lang="en_US" data-scayt-word="YPQC" style="background-image: none\;">YPQC</span>&nbsp\;separately for $50/year. Contact Greg Aguilar at&nbsp\;<a href="mailto:gaguilar@quadcitieschamber.com"><span style="color: rgb(0\, 0\, 255)\;"><span data-scayt-lang="en_US" data-scayt-word="gaguilar" style="background-image: none\;">gaguilar</span>@quadcitieschamber.com</span></a>&nbsp\;or 563.823.2659.</span></span></span></span></span></span></p>\n</div>\n
LOCATION:The Outing Club Country Club 2109 Brady St Davenport\, IA 52803
UID:e.2843.1384
SEQUENCE:3
DTSTAMP:20260423T232225Z
URL:https://member.quadcitieschamber.com/events/details/net-night-summer-soiree-at-the-outing-club-country-club-august-2017-1384
END:VEVENT

END:VCALENDAR
