BEGIN:VCALENDAR
VERSION:2.0
PRODID:-//ChamberMaster//Event Calendar 2.0//EN
METHOD:PUBLISH
X-PUBLISHED-TTL:P3D
REFRESH-INTERVAL:P3D
CALSCALE:GREGORIAN
BEGIN:VEVENT
DTSTART:20091030T050000Z
DTEND:20091030T050000Z
X-MICROSOFT-CDO-ALLDAYEVENT:FALSE
SUMMARY:Network Learning Lab
DESCRIPTION:Network Learning Lab
X-ALT-DESC;FMTTYPE=text/html:Network Learning Lab
LOCATION:
UID:e.2843.3789
SEQUENCE:3
DTSTAMP:20260424T073233Z
URL:https://member.quadcitieschamber.com/events/details/network-learning-lab-10-30-2009-3789
END:VEVENT

END:VCALENDAR
