BEGIN:VCALENDAR
VERSION:2.0
PRODID:-//ChamberMaster//Event Calendar 2.0//EN
METHOD:PUBLISH
X-PUBLISHED-TTL:P3D
REFRESH-INTERVAL:P3D
CALSCALE:GREGORIAN
BEGIN:VEVENT
DTSTART:20140807T223000Z
DTEND:20140808T003000Z
X-MICROSOFT-CDO-ALLDAYEVENT:FALSE
SUMMARY:Network @ Night
DESCRIPTION:Network with area young professionals at Pub 1848\, and be sure to stick around for free live music by Wicked Liz and the Belly Swirls hosted by Moline Centre.
X-ALT-DESC;FMTTYPE=text/html:<SPAN style="FONT-FAMILY: 'Calibri'\,'sans-serif'\; COLOR: #1f497d\; FONT-SIZE: 11pt"><FONT color=#0f0f0f><P style="MARGIN: 0in 0in 0pt" class=MsoNormal><SPAN style="BACKGROUND: white\; COLOR: #0f0f0f\; FONT-SIZE: 11.5pt">Network with area young professionals at Pub 1848\, and be sure to stick around for free live music by Wicked Liz and the Belly Swirls hosted by Moline Centre.</SPAN><?xml:namespace prefix = o ns = "urn:schemas-microsoft-com:office:office" /><o:p></o:p></P><o:p></o:p></FONT></SPAN>
LOCATION:PUB 18481601 River Drive Moline\, IL
UID:e.2843.658
SEQUENCE:3
DTSTAMP:20260422T140522Z
URL:https://member.quadcitieschamber.com/events/details/network-night-08-07-2014-658
END:VEVENT

END:VCALENDAR
