BEGIN:VCALENDAR
VERSION:2.0
PRODID:-//ChamberMaster//Event Calendar 2.0//EN
METHOD:PUBLISH
X-PUBLISHED-TTL:P3D
REFRESH-INTERVAL:P3D
CALSCALE:GREGORIAN
BEGIN:VEVENT
DTSTART:20091203T060000Z
DTEND:20091203T060000Z
X-MICROSOFT-CDO-ALLDAYEVENT:FALSE
SUMMARY:Network @ Night
DESCRIPTION:Network @ Night
X-ALT-DESC;FMTTYPE=text/html:Network @ Night
LOCATION:
UID:e.2843.3795
SEQUENCE:3
DTSTAMP:20260424T103750Z
URL:https://member.quadcitieschamber.com/events/details/network-night-12-03-2009-3795
END:VEVENT

END:VCALENDAR
