BEGIN:VCALENDAR
VERSION:2.0
PRODID:-//ChamberMaster//Event Calendar 2.0//EN
METHOD:PUBLISH
X-PUBLISHED-TTL:P3D
REFRESH-INTERVAL:P3D
CALSCALE:GREGORIAN
BEGIN:VEVENT
DTSTART:20110407T223000Z
DTEND:20110408T003000Z
X-MICROSOFT-CDO-ALLDAYEVENT:FALSE
SUMMARY:Network @ Night- April 2011
DESCRIPTION:Attend Network @ Night for a great opportunity to socialize with over 100 young professionals at Icons Martini in downtown Rock Island. Enjoy light appetizers and a cash bar while networking with your peers!
X-ALT-DESC;FMTTYPE=text/html:Attend Network @ Night for a great opportunity to socialize with over 100 young professionals at Icons Martini in downtown Rock Island. Enjoy light appetizers and a cash bar while networking with your peers!
LOCATION:Icons Martini124 18th St. Rock Island\, IL 61201
UID:e.2843.134
SEQUENCE:3
DTSTAMP:20260423T005612Z
URL:https://member.quadcitieschamber.com/events/details/network-night-april-2011-04-07-2011-134
END:VEVENT

END:VCALENDAR
