BEGIN:VCALENDAR
VERSION:2.0
PRODID:-//ChamberMaster//Event Calendar 2.0//EN
METHOD:PUBLISH
X-PUBLISHED-TTL:P3D
REFRESH-INTERVAL:P3D
CALSCALE:GREGORIAN
BEGIN:VEVENT
DTSTART:20120405T223000Z
DTEND:20120406T003000Z
X-MICROSOFT-CDO-ALLDAYEVENT:FALSE
SUMMARY:Network @ Night- April 2012
DESCRIPTION:Join The Network: Young Professionals of the Quad Cities for this month's Network @ Night at Barrel House 211 in downtown Davenport! Enjoy light appetizers and a cash bar at this downtown location while connecting with other YPs. If the weather is nice\, we'll spend time on their beautiful outdoor patio! This event is sponsored by the Davenport Noon Optimists.   Click here to see who has already registered for this event!
X-ALT-DESC;FMTTYPE=text/html:<SPAN style="FONT-FAMILY: 'Arial'\,'sans-serif'\; COLOR: black\; FONT-SIZE: 10pt"><P><SPAN style="FONT-FAMILY: 'Arial'\,'sans-serif'\; COLOR: black\; FONT-SIZE: 10pt">Join The Network: Young Professionals of the Quad Cities for this month's Network @ Night at Barrel House 211 in downtown Davenport! Enjoy light appetizers and a cash bar at this downtown location while connecting with other YPs. If the weather is nice\, we'll spend time on their beautiful outdoor patio!<?xml:namespace prefix = o ns = "urn:schemas-microsoft-com:office:office" /><o:p></o:p></SPAN></P><P><SPAN style="FONT-FAMILY: 'Arial'\,'sans-serif'\; COLOR: black\; FONT-SIZE: 10pt"><o:p></o:p></SPAN></P><P><SPAN style="FONT-FAMILY: 'Arial'\,'sans-serif'\; COLOR: black\; FONT-SIZE: 10pt"><o:p>&nbsp\;</o:p></SPAN></P><P><SPAN style="FONT-FAMILY: 'Arial'\,'sans-serif'\; COLOR: black\; FONT-SIZE: 10pt">This event is sponsored by the Davenport Noon Optimists.&nbsp\; </SPAN></P><P><SPAN style="FONT-FAMILY: 'Arial'\,'sans-serif'\; COLOR: black\; FONT-SIZE: 10pt"></SPAN>&nbsp\;</P><P><SPAN style="FONT-FAMILY: 'Arial'\,'sans-serif'\; COLOR: black\; FONT-SIZE: 10pt"><A style="COLOR: blue\; TEXT-DECORATION: underline" title="" dataFld=0:0 href="http://events.quadcitieschamber.com/sbaweb/common/attendees.asp?eventcode=PMNET 04/05" target=_self>Click here</A> to see who has already registered for this event!</SPAN><SPAN style="FONT-FAMILY: 'Georgia'\,'serif'\; FONT-SIZE: 10pt"> <o:p></o:p></SPAN></P><P style="MARGIN: 0in 0in 0pt">&nbsp\;</P></SPAN>
LOCATION:Barrel House 211211 E. 2nd St. Davenport\, IA 52801
UID:e.2843.263
SEQUENCE:3
DTSTAMP:20260420T095305Z
URL:https://member.quadcitieschamber.com/events/details/network-night-april-2012-04-05-2012-263
END:VEVENT

END:VCALENDAR
