BEGIN:VCALENDAR
VERSION:2.0
PRODID:-//ChamberMaster//Event Calendar 2.0//EN
METHOD:PUBLISH
X-PUBLISHED-TTL:P3D
REFRESH-INTERVAL:P3D
CALSCALE:GREGORIAN
BEGIN:VEVENT
DTSTART:20110804T223000Z
DTEND:20110805T003000Z
X-MICROSOFT-CDO-ALLDAYEVENT:FALSE
SUMMARY:Network @ Night- August 2011
DESCRIPTION:Join The Network: Young Professionals of the Quad Cities for this month’s Network @ Night at Daiquiri Factory\, "The Quad Cities Original Daiquiri Bar." Enjoy networking with 100 young professionals\, light appetizers and a cash bar!
X-ALT-DESC;FMTTYPE=text/html:<P class=MsoNormal style="MARGIN: 0in 0in 0pt 5.75pt"><SPAN style="FONT-FAMILY: 'Calibri'\,'sans-serif'\; mso-ascii-theme-font: minor-latin\; mso-hansi-theme-font: minor-latin">Join The Network: Young Professionals of the Quad Cities for this month’s Network @ Night at Daiquiri Factory\, "The Quad Cities Original Daiquiri Bar." Enjoy networking with 100 young professionals\, light appetizers and a cash bar!</SPAN></P><DIV>&nbsp\;</DIV>
LOCATION:Daiquiri Factory1809 2nd AVE Rock Island\, IL 61201
UID:e.2843.185
SEQUENCE:3
DTSTAMP:20260422T161601Z
URL:https://member.quadcitieschamber.com/events/details/network-night-august-2011-08-04-2011-185
END:VEVENT

END:VCALENDAR
