BEGIN:VCALENDAR
VERSION:2.0
PRODID:-//ChamberMaster//Event Calendar 2.0//EN
METHOD:PUBLISH
X-PUBLISHED-TTL:P3D
REFRESH-INTERVAL:P3D
CALSCALE:GREGORIAN
BEGIN:VEVENT
DTSTART:20111201T233000Z
DTEND:20111202T013000Z
X-MICROSOFT-CDO-ALLDAYEVENT:FALSE
SUMMARY:Network @ Night- December 2011
DESCRIPTION:Join The Network: Young Professionals of the Quad Cities for Network @ Night at The Clubhouse\, the Quad Cities first and only indoor country club! We’ll have light appetizers\, a cash bar\, and tons of your Network friends to enjoy the evening with.  Bring your coworkers and friends to this great location for December’s Network @ Night!This event is sponsored by Ballet Quad Cities
X-ALT-DESC;FMTTYPE=text/html:<P style="MARGIN: 0in 0in 10pt" class=MsoNormal><FONT face=Calibri>Join The Network: Young Professionals of the Quad Cities for Network @ Night at The Clubhouse\, the Quad Cities first and only indoor country club! We’ll have light appetizers\, a cash bar\, and tons of your Network friends to enjoy the evening with. <SPAN style="mso-spacerun: yes">&nbsp\;</SPAN>Bring your coworkers and friends to this great location for December’s Network @ Night!</FONT></P><P style="MARGIN: 0in 0in 10pt" class=MsoNormal>This event is sponsored by Ballet Quad Cities</P>
LOCATION:The Clubhouse2501 53rd Ave. Bettendorf\, IA 52722
UID:e.2843.301
SEQUENCE:3
DTSTAMP:20260422T110844Z
URL:https://member.quadcitieschamber.com/events/details/network-night-december-2011-12-01-2011-301
END:VEVENT

END:VCALENDAR
