BEGIN:VCALENDAR
VERSION:2.0
PRODID:-//ChamberMaster//Event Calendar 2.0//EN
METHOD:PUBLISH
X-PUBLISHED-TTL:P3D
REFRESH-INTERVAL:P3D
CALSCALE:GREGORIAN
BEGIN:VEVENT
DTSTART:20131205T233000Z
DTEND:20131206T013000Z
X-MICROSOFT-CDO-ALLDAYEVENT:FALSE
SUMMARY:Network @ Night: December 2013
DESCRIPTION:Attend Network @ Night at Barrel House\, voted the #1 bar in the region on Locals Love Us! Meet up after work for drinks\, signature food and friends at this new Quad Cities hotspot. This event sponsored by Midwest Technical Institute.
X-ALT-DESC;FMTTYPE=text/html:<P style="MARGIN: 0in 0in 0pt" class=MsoNormal><FONT size=2><SPAN>Attend Network @ Night at Barrel House\, v<FONT face=Arial>oted the #1 bar in the region on Locals Love Us! Meet up after work for drinks\, signature food and friends at this new Quad Cities hotspot.</FONT><?xml:namespace prefix = o ns = "urn:schemas-microsoft-com:office:office" /><o:p></o:p></SPAN></FONT></P><DIV><FONT size=2></FONT>&nbsp\;</DIV><DIV><FONT size=2>This event sponsored by Midwest Technical Institute. </FONT></DIV>
LOCATION:Barrel House - Moline1321 5th Ave. Moline\, IL 61265
UID:e.2843.747
SEQUENCE:3
DTSTAMP:20260421T234753Z
URL:https://member.quadcitieschamber.com/events/details/network-night-december-2013-12-05-2013-747
END:VEVENT

END:VCALENDAR
