BEGIN:VCALENDAR
VERSION:2.0
PRODID:-//ChamberMaster//Event Calendar 2.0//EN
METHOD:PUBLISH
X-PUBLISHED-TTL:P3D
REFRESH-INTERVAL:P3D
CALSCALE:GREGORIAN
BEGIN:VEVENT
DTSTART:20141204T233000Z
DTEND:20141205T013000Z
X-MICROSOFT-CDO-ALLDAYEVENT:FALSE
SUMMARY:Network @ Night: December 2014
DESCRIPTION:
X-ALT-DESC;FMTTYPE=text/html:<P style="MARGIN: 0in 0in 10pt" class=MsoNormal>&nbsp\;</P>
LOCATION:The Office: Cocktail Bar & Lounge116 West 3rd Street Davenport\, IA
UID:e.2843.662
SEQUENCE:3
DTSTAMP:20260422T195519Z
URL:https://member.quadcitieschamber.com/events/details/network-night-december-2014-12-04-2014-662
END:VEVENT

END:VCALENDAR
