BEGIN:VCALENDAR
VERSION:2.0
PRODID:-//ChamberMaster//Event Calendar 2.0//EN
METHOD:PUBLISH
X-PUBLISHED-TTL:P3D
REFRESH-INTERVAL:P3D
CALSCALE:GREGORIAN
BEGIN:VEVENT
DTSTART:20120202T233000Z
DTEND:20120203T013000Z
X-MICROSOFT-CDO-ALLDAYEVENT:FALSE
SUMMARY:Network @ Night- February 2012
DESCRIPTION:Join The Network: Young Professionals of the Quad Cities for this month's Network @ Night at the Figge Art Museum. We'll enjoy time in their dining area overlooking the Mississippi River! Network with other young professionals as you enjoy food\, a cash bar & the new Fins & Feathers Exhibition! This event is sponsored by UNITED Insurance & Investments\, Brian Burke
X-ALT-DESC;FMTTYPE=text/html:<P style="MARGIN: 0in 0in 0pt"><SPAN style="FONT-FAMILY: 'Arial'\,'sans-serif'\; COLOR: black\; FONT-SIZE: 10pt">Join The Network: Young Professionals of the Quad Cities for this month's Network @ Night at the Figge Art Museum. We'll enjoy time in their dining area overlooking the Mississippi River! Network with other young professionals as you enjoy food\, a cash bar &amp\; the new Fins &amp\; Feathers Exhibition!</SPAN></P><P style="MARGIN: 0in 0in 0pt"><SPAN style="FONT-FAMILY: 'Arial'\,'sans-serif'\; COLOR: black\; FONT-SIZE: 10pt"></SPAN>&nbsp\;</P><P style="MARGIN: 0in 0in 0pt"><SPAN style="FONT-FAMILY: 'Arial'\,'sans-serif'\; COLOR: black\; FONT-SIZE: 10pt">This event is sponsored by UNITED Insurance &amp\; Investments\, Brian Burke</SPAN></P>
LOCATION:Figge Art Museum225 West Second Street Davenport\, IA 52801
UID:e.2843.261
SEQUENCE:3
DTSTAMP:20260422T092841Z
URL:https://member.quadcitieschamber.com/events/details/network-night-february-2012-02-02-2012-261
END:VEVENT

END:VCALENDAR
