BEGIN:VCALENDAR
VERSION:2.0
PRODID:-//ChamberMaster//Event Calendar 2.0//EN
METHOD:PUBLISH
X-PUBLISHED-TTL:P3D
REFRESH-INTERVAL:P3D
CALSCALE:GREGORIAN
BEGIN:VEVENT
DTSTART:20140206T233000Z
DTEND:20140207T013000Z
X-MICROSOFT-CDO-ALLDAYEVENT:FALSE
SUMMARY:Network @ Night: February 2014
DESCRIPTION:Join us for Network @ Night at Me & Billy\, a new hotspot that strives to encompass the timeless values of friendly service and a lively atmosphere. Meet new contacts\, enjoy memorable food and drink and celebrate a fun evening with your favorite young professionals.
X-ALT-DESC;FMTTYPE=text/html:<SPAN style="TEXT-ALIGN: left\; TEXT-TRANSFORM: none\; BACKGROUND-COLOR: rgb(219\,237\,254)\; TEXT-INDENT: 0px\; LETTER-SPACING: normal\; DISPLAY: inline !important\; FONT: 11px/14px 'lucida grande'\, tahoma\, verdana\, arial\, sans-serif\; WHITE-SPACE: pre-wrap\; FLOAT: none\; COLOR: rgb(62\,69\,76)\; WORD-SPACING: 0px\; -webkit-text-stroke-width: 0px"><FONT style="BACKGROUND-COLOR: #ffffff"><P style="MARGIN: 0in 0in 10pt" class=MsoNormal><FONT size=3><FONT color=#000000><FONT face=Calibri>Join us for Network @ Night at Me &amp\; Billy\, a new hotspot that strives to encompass the timeless values of </FONT></FONT></FONT></P><P style="MARGIN: 0in 0in 10pt" class=MsoNormal><FONT size=3><FONT color=#000000><FONT face=Calibri>friendly service and a lively atmosphere. Meet new contacts\, enjoy memorable food and drink and celebrate a </FONT></FONT></FONT></P><P style="MARGIN: 0in 0in 10pt" class=MsoNormal><FONT size=3><FONT color=#000000><FONT face=Calibri>fun evening with your favorite young professionals. <?xml:namespace prefix = o ns = "urn:schemas-microsoft-com:office:office" /><o:p></o:p></FONT></FONT></FONT></P></FONT></SPAN>
LOCATION:Me & Billy {Kitchen and Bar}200 W. 3rd St. Davenport\, IA 52801
UID:e.2843.654
SEQUENCE:3
DTSTAMP:20260422T031120Z
URL:https://member.quadcitieschamber.com/events/details/network-night-february-2014-02-06-2014-654
END:VEVENT

END:VCALENDAR
