BEGIN:VCALENDAR
VERSION:2.0
PRODID:-//ChamberMaster//Event Calendar 2.0//EN
METHOD:PUBLISH
X-PUBLISHED-TTL:P3D
REFRESH-INTERVAL:P3D
CALSCALE:GREGORIAN
BEGIN:VEVENT
DTSTART:20120105T233000Z
DTEND:20120106T013000Z
X-MICROSOFT-CDO-ALLDAYEVENT:FALSE
SUMMARY:Network @ Night- January 2012
DESCRIPTION:Join The Network: Young Professionals of the Quad Cities for this month's Network @ Night at Blackhawk Bowl & Martini Lounge in the basement of Hotel Blackhawk! Enjoy light appetizers and a cash bar at this downtown location while connecting with other YPs! This event is sponsored by the QC Symphony Orchestra
X-ALT-DESC;FMTTYPE=text/html:<P style="MARGIN: 0in 0in 0pt"><SPAN style="FONT-FAMILY: 'Arial'\,'sans-serif'\; COLOR: black\; FONT-SIZE: 10pt">Join The Network: Young Professionals of the Quad Cities for this month's Network @ Night at Blackhawk Bowl &amp\; Martini Lounge in the basement of Hotel Blackhawk! Enjoy light appetizers and a cash bar at this downtown location while connecting with other YPs!</SPAN></P><P style="MARGIN: 0in 0in 0pt"><SPAN style="FONT-FAMILY: 'Arial'\,'sans-serif'\; COLOR: black\; FONT-SIZE: 10pt"></SPAN>&nbsp\;</P><P style="MARGIN: 0in 0in 0pt"><SPAN style="FONT-FAMILY: 'Arial'\,'sans-serif'\; COLOR: black\; FONT-SIZE: 10pt">This event is sponsored by the QC Symphony Orchestra</SPAN></P>
LOCATION:Blackhawk Bowl & Martini Lounge200 E. 3rd Street Davenport\, IA 52801
UID:e.2843.260
SEQUENCE:3
DTSTAMP:20260422T070914Z
URL:https://member.quadcitieschamber.com/events/details/network-night-january-2012-01-05-2012-260
END:VEVENT

END:VCALENDAR
