BEGIN:VCALENDAR
VERSION:2.0
PRODID:-//ChamberMaster//Event Calendar 2.0//EN
METHOD:PUBLISH
X-PUBLISHED-TTL:P3D
REFRESH-INTERVAL:P3D
CALSCALE:GREGORIAN
BEGIN:VEVENT
DTSTART:20110707T223000Z
DTEND:20110708T003000Z
X-MICROSOFT-CDO-ALLDAYEVENT:FALSE
SUMMARY:Network @ Night July 2011
DESCRIPTION:Join some of your friends from The Network as we enjoy July’s Network @ Night event outdoors on the river at The Captain’s Table in Moline! Meet us at 5:30pm for light appetizers and a cash bar as we network\, meet new people\, and enjoy a beautiful summer night on the “Mighty Mississippi!”  Register today!
X-ALT-DESC;FMTTYPE=text/html:<P style="MARGIN-BOTTOM: 12pt"><SPAN style="FONT-SIZE: 10pt\; FONT-FAMILY: 'Arial'\,'sans-serif'">Join some of your friends from The Network as we enjoy July’s Network @ Night event <B style="mso-bidi-font-weight: normal">outdoors </B>on the river at The Captain’s Table in Moline! Meet us at 5:30pm for light appetizers and a cash bar as we network\, meet new people\, and enjoy a <B style="mso-bidi-font-weight: normal">beautiful summer night on the “Mighty Mississippi!” <?xml:namespace prefix = o ns = "urn:schemas-microsoft-com:office:office" /><o:p></o:p></B></SPAN></P><P style="MARGIN-BOTTOM: 12pt"><B style="mso-bidi-font-weight: normal"><SPAN style="FONT-SIZE: 10pt\; FONT-FAMILY: 'Arial'\,'sans-serif'"><SPAN style="mso-spacerun: yes">&nbsp\;</SPAN></SPAN></B><SPAN style="FONT-SIZE: 10pt\; FONT-FAMILY: 'Arial'\,'sans-serif'">Register today! </SPAN></P><DIV>&nbsp\;</DIV>
LOCATION:The Captain's Table Restaurant4801 River Drive Moline\, IL 61265
UID:e.2843.179
SEQUENCE:3
DTSTAMP:20260422T180930Z
URL:https://member.quadcitieschamber.com/events/details/network-night-july-2011-07-07-2011-179
END:VEVENT

END:VCALENDAR
