BEGIN:VCALENDAR
VERSION:2.0
PRODID:-//ChamberMaster//Event Calendar 2.0//EN
METHOD:PUBLISH
X-PUBLISHED-TTL:P3D
REFRESH-INTERVAL:P3D
CALSCALE:GREGORIAN
BEGIN:VEVENT
DTSTART:20110602T223000Z
DTEND:20110603T003000Z
X-MICROSOFT-CDO-ALLDAYEVENT:FALSE
SUMMARY:Network @ Night- June 2011
DESCRIPTION:Join The Network: Young Professionals of the Quad Cities for our biggest Network @ Night of the year on Thursday\, June 2nd.  Hosted outdoors at Granite City Food & Brewery\, this popular event will be a great opportunity to network with over 100 young professionals!\n\nBring all of your friends and co-workers to this exciting monthly event! Enjoy light appetizers and a cash bar while enjoying the great outdoor atmosphere that Granite City provides.  This event is sponsored by Mel Foster Co. & Valley Bank
X-ALT-DESC;FMTTYPE=text/html:<DIV><P class=MsoNormal style="MARGIN: 0in 0in 0pt"><SPAN style="COLOR: black"><FONT face="Times New Roman">Join The Network: Young Professionals of the Quad Cities for our biggest Network @ Night of the year on Thursday\, June 2<SUP>nd</SUP>.&nbsp\;&nbsp\;Hosted outdoors at Granite City Food &amp\; Brewery\, this popular&nbsp\;event will be a great opportunity to network with over 100 young professionals!<BR><BR>Bring all of your friends and co-workers to this exciting monthly event! Enjoy light appetizers and a cash bar while enjoying the great outdoor atmosphere that Granite City provides.<STRONG> <?xml:namespace prefix = o ns = "urn:schemas-microsoft-com:office:office" /><o:p></o:p></STRONG></FONT></SPAN></P><P class=MsoNormal style="MARGIN: 0in 0in 0pt"><o:p><FONT face="Times New Roman">&nbsp\;</FONT></o:p></P><P class=MsoNormal style="MARGIN: 0in 0in 0pt"><FONT face="Times New Roman">This event is sponsored by Mel Foster Co. &amp\; Valley Bank</FONT></P></DIV>
LOCATION:Granite City Food & Brewery5270 Utica Ridge Rd. Davenport\, IA 52807
UID:e.2843.169
SEQUENCE:3
DTSTAMP:20260422T193343Z
URL:https://member.quadcitieschamber.com/events/details/network-night-june-2011-06-02-2011-169
END:VEVENT

END:VCALENDAR
