BEGIN:VCALENDAR
VERSION:2.0
PRODID:-//ChamberMaster//Event Calendar 2.0//EN
METHOD:PUBLISH
X-PUBLISHED-TTL:P3D
REFRESH-INTERVAL:P3D
CALSCALE:GREGORIAN
BEGIN:VEVENT
DTSTART:20120301T233000Z
DTEND:20120302T013000Z
X-MICROSOFT-CDO-ALLDAYEVENT:FALSE
SUMMARY:Network @ Night- March 2012
DESCRIPTION:Join The Network: Young Professionals of the Quad Cities for this month's Network @ Night at ICONS Martini in the District of Rock Island! Enjoy a special taco bar\, drinks & networking at this awesome location while connecting with other YPs!
X-ALT-DESC;FMTTYPE=text/html:<P style="MARGIN: 0in 0in 0pt"><SPAN style="FONT-FAMILY: 'Arial'\,'sans-serif'\; COLOR: black\; FONT-SIZE: 10pt">Join The Network: Young Professionals of the Quad Cities for this month's Network @ Night at&nbsp\;ICONS Martini in the District of Rock Island!&nbsp\;Enjoy&nbsp\;a&nbsp\;special taco bar\, drinks &amp\; networking&nbsp\;at this&nbsp\;awesome location while connecting with other YPs!</SPAN></P>
LOCATION:Icons Martini124 18th St. Rock Island\, IL 61201
UID:e.2843.262
SEQUENCE:3
DTSTAMP:20260420T083011Z
URL:https://member.quadcitieschamber.com/events/details/network-night-march-2012-03-01-2012-262
END:VEVENT

END:VCALENDAR
