BEGIN:VCALENDAR
VERSION:2.0
PRODID:-//ChamberMaster//Event Calendar 2.0//EN
METHOD:PUBLISH
X-PUBLISHED-TTL:P3D
REFRESH-INTERVAL:P3D
CALSCALE:GREGORIAN
BEGIN:VEVENT
DTSTART:20110505T223000Z
DTEND:20110506T003000Z
X-MICROSOFT-CDO-ALLDAYEVENT:FALSE
SUMMARY:Network @ Night- May 2011
DESCRIPTION:Join some of your fabulous friends from The Network at May's Network @ Night event at Caddy's Sports Bar & Grill in Bettendorf! Meet us at 5:30pm for light appetizers and a cash bar as we network\, meet new people\, and enjoy a great Quad City establishment!
X-ALT-DESC;FMTTYPE=text/html:<DIV><P align=left><FONT face=Arial size=3><SMALL>Join some of your fabulous friends from The Network at&nbsp\;May's Network @ Night event at <B>Caddy's Sports Bar &amp\; Grill </B>in Bettendorf! Meet us at 5:30pm for light appetizers and a cash bar as we network\, meet new people\, and enjoy a great Quad City establishment! </SMALL></FONT></P></DIV>
LOCATION:Caddy's Sports Bar & Grill3700 Belmont Rd. Bettendorf\, IA 52722
UID:e.2843.163
SEQUENCE:3
DTSTAMP:20260422T230359Z
URL:https://member.quadcitieschamber.com/events/details/network-night-may-2011-05-05-2011-163
END:VEVENT

END:VCALENDAR
