BEGIN:VCALENDAR
VERSION:2.0
PRODID:-//ChamberMaster//Event Calendar 2.0//EN
METHOD:PUBLISH
X-PUBLISHED-TTL:P3D
REFRESH-INTERVAL:P3D
CALSCALE:GREGORIAN
BEGIN:VEVENT
DTSTART:20170202T233000Z
DTEND:20170203T013000Z
X-MICROSOFT-CDO-ALLDAYEVENT:FALSE
SUMMARY:Network @ Night: Necker's Jewelers (February 2017)
DESCRIPTION:*Online Registration has been closed. Walk-in's will be accepted at the door.\n\n\n\nJoin us for this unique Valentine's Day themed Network @ Night! Appetizers will be provided from Barrel House\, all attendees will receive a special gift from Necker's\, plus they will be offering some great Valentine's Day specials! \n\n"Get A Long Stemmed Rose (from Flowers by Staacks)\, Chocolate (from Chocolate Manor)\, and Dinner at Barrel House ($25 gift card)\, with any purchase of $149 or more!"\n\n**While supplies last. Cannot be combined with any other offer or promotion.\n\n\n\nJoin friends and other young professionals after work at Network @ Night in the Quad Cities. Typically on the first Thursday of each month\, this event rotates between area bars\, restaurants and special venues. After a long day at work\, Network @ Night gives young professionals the ability to socialize with friends\, meet new people\, make business and community contacts\, experience the Quad Cities night life\, and most importantly - to relax!\n\n \n\nApproximately 100 YPs attend this monthly event. (FREE for Members) $10 for Non-Members.\n\n \n\n*If you need any special requirements to attend this meeting please contact Megan Lovelady at mlovelady@quadcitieschamber.com*\n\n \n\n*If you work for a company that is a member of the Chamber\, you are automatically a member of YPQC and attend at YPQC member prices. If your company is not a member of the Chamber\, you can join YPQC separately for $50/year. Contact Greg Aguilar at gaguilar@quadcitieschamber.com or 563.823.2659.
X-ALT-DESC;FMTTYPE=text/html:<div style="FONT-FAMILY: Arial">\n<p><span style="font-size:16px\;"><span style="font-family:arial\;">*Online Registration has been closed. Walk-in&#39\;s will be accepted at the door.<br />\n<br />\nJoin us for this unique Valentine&#39\;s Day themed Network @ Night! <span style="color:black\;">Appetizers will be provided from Barrel House\,&nbsp\;all attendees will receive a special gift from Necker&#39\;s\, plus they will be offering some great Valentine&#39\;s Day specials!&nbsp\;</span><br />\n&quot\;Get A Long Stemmed Rose (from Flowers by Staacks)\, Chocolate (from Chocolate Manor)\, and Dinner at Barrel House ($25 gift card)\, with any purchase of $149 or more!&quot\;<br />\n**While supplies last. Cannot be combined with any other offer or promotion.</span><br />\n<br />\n<font face="AvenirLTStd-Book"><span style="font-family: Arial\; color: rgb(51\, 51\, 51)\; background-color: rgb(255\, 255\, 255)\;"><span style="FONT-FAMILY: arial"><span style="background-size: initial\; background-origin: initial\; background-clip: initial"><span style="COLOR: black"><span style="background-size: initial\; background-origin: initial\; background-clip: initial">Join friends and other young professionals after work at Network @ Night in the Quad Cities. Typically on the first Thursday of each month\, this event rotates between area bars\, restaurants and special venues. After a long day at work\, Network @ Night gives young professionals the ability to socialize with friends\, meet new people\, make business and community contacts\, experience the Quad Cities night life\, and most importantly&nbsp\;- to relax!</span></span></span><br />\n&nbsp\;<br />\n<span style="background-size: initial\; background-origin: initial\; background-clip: initial"><span style="COLOR: black"><span new="" style="background-size: initial\; background-origin: initial\; background-clip: initial" times="">Approximately 100 YPs attend this monthly event. (FREE for Members) $10 for Non-Members.</span></span></span><br />\n&nbsp\;<br />\n<span style="background-size: initial\; background-origin: initial\; background-clip: initial"><span style="COLOR: black"><span new="" style="background-size: initial\; background-origin: initial\; background-clip: initial" times="">*If you need any special requirements to attend this meeting please contact Megan&nbsp\;<span data-scayt-lang="en_US" data-scayt-word="Lovelady" style="BACKGROUND-IMAGE: none">Lovelady</span>&nbsp\;at&nbsp\;<span data-scayt-lang="en_US" data-scayt-word="mlovelady" style="BACKGROUND-IMAGE: none">mlovelady</span>@quadcitieschamber.com*</span></span></span><br />\n&nbsp\;<br />\n<span style="background-size: initial\; background-origin: initial\; background-clip: initial"><span style="COLOR: black"><span style="background-size: initial\; background-origin: initial\; background-clip: initial"><span style="COLOR: rgb(20\,24\,35)">*If you work for a company that is a member of the Chamber\, you are automatically a member of&nbsp\;<span data-scayt-lang="en_US" data-scayt-word="YPQC" style="BACKGROUND-IMAGE: none">YPQC</span>&nbsp\;and attend at&nbsp\;<span data-scayt-lang="en_US" data-scayt-word="YPQC" style="BACKGROUND-IMAGE: none">YPQC</span>&nbsp\;member prices. If your company is not a member of the Chamber\, you can join&nbsp\;<span data-scayt-lang="en_US" data-scayt-word="YPQC" style="BACKGROUND-IMAGE: none">YPQC</span>&nbsp\;separately for $50/year. Contact Greg Aguilar at&nbsp\;<a href="mailto:gaguilar@quadcitieschamber.com" style="COLOR: rgb(7\,130\,193)"><span style="COLOR: rgb(0\,0\,255)"><span data-scayt-lang="en_US" data-scayt-word="gaguilar" style="BACKGROUND-IMAGE: none">gaguilar</span>@quadcitieschamber.com</span></a>&nbsp\;or 563.823.2659.</span></span></span></span></span></span></font></span></p>\n</div>\n
LOCATION:Necker's Jewelers 4007 East 53rd Street Davenport\, IA 52807
UID:e.2843.1378
SEQUENCE:3
DTSTAMP:20260424T070848Z
URL:https://member.quadcitieschamber.com/events/details/network-night-necker-s-jewelers-february-2017-1378
END:VEVENT

END:VCALENDAR
