BEGIN:VCALENDAR
VERSION:2.0
PRODID:-//ChamberMaster//Event Calendar 2.0//EN
METHOD:PUBLISH
X-PUBLISHED-TTL:P3D
REFRESH-INTERVAL:P3D
CALSCALE:GREGORIAN
BEGIN:VEVENT
DTSTART:20111001T223000Z
DTEND:20111002T003000Z
X-MICROSOFT-CDO-ALLDAYEVENT:FALSE
SUMMARY:Network @ Night- November 2011
DESCRIPTION:Join the Network: Young Professionals of the Quad Cities for Network @ Night event at 1 Hundred West inside the Best Western Steeplegate Inn. 1 Hundred West is one of the Quad Cities’ newest places to hangout. Come network with 100 young professionals while enjoying light appetizers and a cash bar at this QC hotspot!This event is sponsored by AT&T
X-ALT-DESC;FMTTYPE=text/html:<P><SPAN style="mso-ansi-language: EN" lang=EN><FONT face="Times New Roman">Join the Network: Young Professionals of the Quad Cities for Network @ Night event at 1 Hundred West inside the Best Western Steeplegate Inn. 1 Hundred West is one of the Quad Cities’ newest places to hangout. Come network with 100 young professionals while enjoying light appetizers and a cash bar at this QC hotspot!<?xml:namespace prefix = o ns = "urn:schemas-microsoft-com:office:office" /><o:p></o:p></FONT></SPAN></P><P><SPAN style="mso-ansi-language: EN" lang=EN><FONT face="Times New Roman">This event is sponsored by AT&amp\;T<o:p></o:p></FONT></SPAN></P><DIV>&nbsp\;</DIV>
LOCATION:Best Western Plus-Steeplegate Inn100 W. 76th St. Davenport\, IA 52806
UID:e.2843.289
SEQUENCE:3
DTSTAMP:20260422T124843Z
URL:https://member.quadcitieschamber.com/events/details/network-night-november-2011-10-01-2011-289
END:VEVENT

END:VCALENDAR
