BEGIN:VCALENDAR
VERSION:2.0
PRODID:-//ChamberMaster//Event Calendar 2.0//EN
METHOD:PUBLISH
X-PUBLISHED-TTL:P3D
REFRESH-INTERVAL:P3D
CALSCALE:GREGORIAN
BEGIN:VEVENT
DTSTART:20111103T223000Z
DTEND:20111104T003000Z
X-MICROSOFT-CDO-ALLDAYEVENT:FALSE
SUMMARY:Network @ Night- November 2011
DESCRIPTION:Join the Network: Young Professionals of the Quad Cities for Network @ Night event at 1 Hundred West inside the Best Western Steeplegate Inn. 1 Hundred West is one of the Quad Cities’ newest places to hangout. Come network with 100 young professionals while enjoying light appetizers and a cash bar at this receive hotspot!At this event\, we will also be collecting toys for Toys for Tots! Every attendee that brings a new toy to the event will recieve $5 Network dollars.This event is sponsored by AT&T
X-ALT-DESC;FMTTYPE=text/html:<P><SPAN style="mso-ansi-language: EN" lang=EN><FONT face="Times New Roman">Join the Network: Young Professionals of the Quad Cities for Network @ Night event at 1 Hundred West inside the Best Western Steeplegate Inn. 1 Hundred West is one of the Quad Cities’ newest places to hangout. Come network with 100 young professionals while enjoying light appetizers and a cash bar at this receive hotspot!</FONT></SPAN></P><P><SPAN style="mso-ansi-language: EN" lang=EN><FONT face="Times New Roman">At this event\, we will also be collecting toys for Toys for Tots! Every attendee that brings a new toy to the event will recieve $5 Network dollars.</FONT></SPAN></P><P><SPAN style="mso-ansi-language: EN" lang=EN><FONT face="Times New Roman">This event is sponsored by AT&amp\;T<?xml:namespace prefix = o ns = "urn:schemas-microsoft-com:office:office" /><o:p></o:p></FONT></SPAN></P><DIV>&nbsp\;</DIV>
LOCATION:Best Western Plus-Steeplegate Inn100 W. 76th St. Davenport\, IA 52806
UID:e.2843.258
SEQUENCE:3
DTSTAMP:20260422T110924Z
URL:https://member.quadcitieschamber.com/events/details/network-night-november-2011-11-03-2011-258
END:VEVENT

END:VCALENDAR
