BEGIN:VCALENDAR
VERSION:2.0
PRODID:-//ChamberMaster//Event Calendar 2.0//EN
METHOD:PUBLISH
X-PUBLISHED-TTL:P3D
REFRESH-INTERVAL:P3D
CALSCALE:GREGORIAN
BEGIN:VEVENT
DTSTART:20111006T223000Z
DTEND:20111007T003000Z
X-MICROSOFT-CDO-ALLDAYEVENT:FALSE
SUMMARY:Network @ Night- October 2011
DESCRIPTION:Join The Network: Young Professionals of the Quad Cities for this month's Network @ Night at Duck City Bistro in downtown Davenport! Enjoy light appetizers and a cash bar at this downtown location while connecting with other YPs!
X-ALT-DESC;FMTTYPE=text/html:<P style="MARGIN: 0in 0in 0pt"><SPAN style="FONT-FAMILY: 'Arial'\,'sans-serif'\; COLOR: black\; FONT-SIZE: 10pt">Join The Network: Young Professionals of the Quad Cities for this month's Network @ Night at Duck City Bistro in downtown Davenport! Enjoy light appetizers and a cash bar at this downtown location while connecting with other YPs!</SPAN></P>
LOCATION:Duck City Bistro115 E. 3rd Street Davenport\, IA 52801
UID:e.2843.193
SEQUENCE:3
DTSTAMP:20260422T124721Z
URL:https://member.quadcitieschamber.com/events/details/network-night-october-2011-10-06-2011-193
END:VEVENT

END:VCALENDAR
