BEGIN:VCALENDAR
VERSION:2.0
PRODID:-//ChamberMaster//Event Calendar 2.0//EN
METHOD:PUBLISH
X-PUBLISHED-TTL:P3D
REFRESH-INTERVAL:P3D
CALSCALE:GREGORIAN
BEGIN:VEVENT
DTSTART:20090902T050000Z
DTEND:20090902T050000Z
X-MICROSOFT-CDO-ALLDAYEVENT:FALSE
SUMMARY:Network @ Night - PAY AT DOOR
DESCRIPTION:Network @ Night - PAY AT DOOR
X-ALT-DESC;FMTTYPE=text/html:Network @ Night - PAY AT DOOR
LOCATION:
UID:e.2843.3761
SEQUENCE:3
DTSTAMP:20260424T072219Z
URL:https://member.quadcitieschamber.com/events/details/network-night-pay-at-door-09-02-2009-3761
END:VEVENT

END:VCALENDAR
