BEGIN:VCALENDAR
VERSION:2.0
PRODID:-//ChamberMaster//Event Calendar 2.0//EN
METHOD:PUBLISH
X-PUBLISHED-TTL:P3D
REFRESH-INTERVAL:P3D
CALSCALE:GREGORIAN
BEGIN:VEVENT
DTSTART:20110901T223000Z
DTEND:20110902T003000Z
X-MICROSOFT-CDO-ALLDAYEVENT:FALSE
SUMMARY:Network @ Night- September 2011
DESCRIPTION:Join The Network: Young Professionals of the Quad Cities for this month's Network @ Night at JA World in downtown Davenport! Enjoy light appetizers and a cash bar at this unique location while learning about the programs and opportunities at Junior Achievement. This event is sponsored by Wells Fargo.
X-ALT-DESC;FMTTYPE=text/html:<DIV>Join The Network: Young Professionals of the Quad Cities for this month's Network @ Night at JA World in downtown Davenport! Enjoy light appetizers and a cash bar at this unique location while learning about the programs and opportunities at Junior Achievement.</DIV><DIV>&nbsp\;</DIV><DIV>This event is sponsored by Wells Fargo.</DIV>
LOCATION:JA World116 W. 2nd Street Davenport\, IA 52801
UID:e.2843.191
SEQUENCE:3
DTSTAMP:20260422T142934Z
URL:https://member.quadcitieschamber.com/events/details/network-night-september-2011-09-01-2011-191
END:VEVENT

END:VCALENDAR
