BEGIN:VCALENDAR
VERSION:2.0
PRODID:-//ChamberMaster//Event Calendar 2.0//EN
METHOD:PUBLISH
X-PUBLISHED-TTL:P3D
REFRESH-INTERVAL:P3D
CALSCALE:GREGORIAN
BEGIN:VEVENT
DTSTART:20140904T223000Z
DTEND:20140905T003000Z
X-MICROSOFT-CDO-ALLDAYEVENT:FALSE
SUMMARY:Network @ Night: September 2014
DESCRIPTION:Join us for Network@Night and get a chance to know other Young Professionals from the area. Put your inner social butterfly to the test and join us in the gardens of the Quad City Botanical Center.  Click here to see who has already registered.
X-ALT-DESC;FMTTYPE=text/html:<P style="MARGIN: 0in 0in 0pt" class=MsoNormal><SPAN style="BACKGROUND: white\; COLOR: #0f0f0f\; FONT-SIZE: 11.5pt"></SPAN></P><P style="MARGIN: 0in 0in 0pt" class=MsoNormal>&nbsp\;</P><P style="MARGIN: 0in 0in 0pt" class=MsoNormal><?xml:namespace prefix = o ns = "urn:schemas-microsoft-com:office:office" /><o:p><FONT color=#0f0f0f>Join us for <A href="mailto:Network@Night">Network@Night</A> and get a chance to know&nbsp\;other Young Professionals from the area. Put your inner social butterfly to the test and join us&nbsp\;in the gardens of the&nbsp\;Quad City Botanical Center. </FONT></o:p></P><P style="MARGIN: 0in 0in 0pt" class=MsoNormal><o:p><FONT color=#0f0f0f></FONT></o:p>&nbsp\;</P><P style="MARGIN: 0in 0in 0pt" class=MsoNormal><o:p><FONT color=#0f0f0f><A dataFld=0:0 href="http://events.quadcitieschamber.com/sbaweb/common/attendees.asp?eventcode=PMNET 09/14">Click here</A> to see who has already registered. </FONT></o:p></P>
LOCATION:Quad City Botanical Center2525 4th Ave. Rock Island\, IL
UID:e.2843.659
SEQUENCE:3
DTSTAMP:20260422T160357Z
URL:https://member.quadcitieschamber.com/events/details/network-night-september-2014-09-04-2014-659
END:VEVENT

END:VCALENDAR
