BEGIN:VCALENDAR
VERSION:2.0
PRODID:-//ChamberMaster//Event Calendar 2.0//EN
METHOD:PUBLISH
X-PUBLISHED-TTL:P3D
REFRESH-INTERVAL:P3D
CALSCALE:GREGORIAN
BEGIN:VEVENT
DTSTART:20120410T164500Z
DTEND:20120410T180000Z
X-MICROSOFT-CDO-ALLDAYEVENT:FALSE
SUMMARY:Network @ Noon - April 2012
DESCRIPTION:Join us for this Network @ Noon program about negotiation skills. Negotiation skills are key when talking salary\, contracts and many other things in and out of the workplace. Natalie Linville-Mass of Media Link Inc. will be presenting on our featured topic. Your questions are welcome at this event as well! This event is sponsored by Ascentra Credit Union Click here to see who has already registered for this event!
X-ALT-DESC;FMTTYPE=text/html:<DIV><P style="MARGIN: 0in 0in 0pt" class=MsoNormal><SPAN style="FONT-FAMILY: 'Arial'\,'sans-serif'\; FONT-SIZE: 10pt\; mso-fareast-font-family: 'Times New Roman'">Join us for this Network @ Noon program about&nbsp\;negotiation skills. Negotiation skills are key when talking salary\, contracts and many other things in and out of the workplace.&nbsp\;Natalie Linville-Mass of Media Link Inc. will be&nbsp\;presenting on our featured topic.&nbsp\;Your questions are welcome at this event as well!<?xml:namespace prefix = o ns = "urn:schemas-microsoft-com:office:office" /><o:p></o:p></SPAN></P><P style="MARGIN: 0in 0in 0pt" class=MsoNormal><SPAN style="FONT-FAMILY: 'Arial'\,'sans-serif'\; FONT-SIZE: 10pt\; mso-fareast-font-family: 'Times New Roman'">&nbsp\;<o:p></o:p></SPAN></P><P style="MARGIN: 0in 0in 0pt" class=MsoNormal><SPAN style="FONT-FAMILY: 'Arial'\,'sans-serif'\; FONT-SIZE: 10pt\; mso-fareast-font-family: 'Times New Roman'">This event is sponsored by Ascentra Credit Union<o:p></o:p></SPAN></P><P style="MARGIN: 0in 0in 0pt\; mso-margin-top-alt: auto\; mso-margin-bottom-alt: auto" class=MsoNormal><SPAN style="FONT-FAMILY: 'Arial'\,'sans-serif'\; FONT-SIZE: 10pt\; mso-fareast-font-family: 'Times New Roman'"></SPAN>&nbsp\;</P><P style="MARGIN: 0in 0in 0pt\; mso-margin-top-alt: auto\; mso-margin-bottom-alt: auto" class=MsoNormal><SPAN style="FONT-FAMILY: 'Arial'\,'sans-serif'\; FONT-SIZE: 10pt\; mso-fareast-font-family: 'Times New Roman'"><A style="COLOR: blue\; TEXT-DECORATION: underline" title="" dataFld=0:0 href="http://events.quadcitieschamber.com/sbaweb/common/attendees.asp?eventcode=NOON 04/10" target=_self><SPAN style="COLOR: windowtext">Click here</SPAN></A> to see who has already registered for this event! <o:p></o:p></SPAN></P></DIV>
LOCATION:Western Illinois University Quad Cities3300 River Drive Moline\, IL 61265
UID:e.2843.273
SEQUENCE:3
DTSTAMP:20260420T083042Z
URL:https://member.quadcitieschamber.com/events/details/network-noon-april-2012-04-10-2012-273
END:VEVENT

END:VCALENDAR
