BEGIN:VCALENDAR
VERSION:2.0
PRODID:-//ChamberMaster//Event Calendar 2.0//EN
METHOD:PUBLISH
X-PUBLISHED-TTL:P3D
REFRESH-INTERVAL:P3D
CALSCALE:GREGORIAN
BEGIN:VEVENT
DTSTART:20121113T174500Z
DTEND:20121113T190000Z
X-MICROSOFT-CDO-ALLDAYEVENT:FALSE
SUMMARY:Network @ Noon - Building a Strong Network of Alliances
DESCRIPTION:Many people avoid “networking” because they think of a simple handshake\, awkward conversation\, and exchange of business cards that doesn’t achieve the results they want. Taking a strategic approach to networking\, Ginny Wilson-Peters of Integrity Integrated will discuss the tips and tools for YPs to move beyond “networking” to building strong networks of alliances. During this session\, attendees will evaluate their current network\, create a plan to strengthen relationships/build new strategic alliances\, and leverage the knowledge of experts in their network to move forward in their careers! This event is sponsored by DHCU Community Credit Union Click here to see who has already registered for this event!
X-ALT-DESC;FMTTYPE=text/html:<DIV><SPAN style="FONT-FAMILY: 'Arial'\,'sans-serif'\; FONT-SIZE: 10pt\; mso-fareast-font-family: 'Times New Roman'"><P style="MARGIN: 0in 0in 0pt" class=MsoNormal><SPAN style="FONT-FAMILY: 'Verdana'\,'sans-serif'\; COLOR: #1f497d\; FONT-SIZE: 10pt"><FONT color=#0f0f0f face=Arial>Many people avoid “networking” because they think of a simple handshake\, awkward conversation\, and exchange of business cards that doesn’t achieve the results they want. Taking a strategic approach to networking\, Ginny Wilson-Peters of Integrity Integrated will discuss the tips and tools for YPs to move beyond “networking” to building strong networks of alliances. During this session\, attendees will evaluate their current network\, create a plan to strengthen relationships/build new strategic alliances\, and leverage the knowledge of experts in their network to move forward in their careers!</FONT></SPAN></P><P style="MARGIN: 0in 0in 0pt" class=MsoNormal></SPAN><SPAN style="FONT-FAMILY: 'Arial'\,'sans-serif'\; FONT-SIZE: 10pt\; mso-fareast-font-family: 'Times New Roman'"><FONT color=#0f0f0f>&nbsp\;<?xml:namespace prefix = o ns = "urn:schemas-microsoft-com:office:office" /><o:p></o:p></FONT></SPAN></P><P style="MARGIN: 0in 0in 0pt" class=MsoNormal><SPAN style="FONT-FAMILY: 'Arial'\,'sans-serif'\; FONT-SIZE: 10pt\; mso-fareast-font-family: 'Times New Roman'"><FONT color=#0f0f0f>This event is sponsored by DHCU Community Credit Union</FONT></SPAN></P><P style="MARGIN: 0in 0in 0pt" class=MsoNormal><FONT face=Arial><FONT size=2><FONT color=#0f0f0f><SPAN style="FONT-FAMILY: 'Arial'\,'sans-serif'\; FONT-SIZE: 10pt\; mso-fareast-font-family: 'Times New Roman'"></SPAN><SPAN style="FONT-FAMILY: 'Arial'\,'sans-serif'\; FONT-SIZE: 10pt\; mso-fareast-font-family: 'Times New Roman'"></SPAN></FONT></FONT></FONT>&nbsp\;</P><P style="MARGIN: 0in 0in 0pt\; mso-margin-top-alt: auto\; mso-margin-bottom-alt: auto" class=MsoNormal><SPAN style="FONT-FAMILY: 'Arial'\,'sans-serif'\; FONT-SIZE: 10pt\; mso-fareast-font-family: 'Times New Roman'"><A style="COLOR: blue\; TEXT-DECORATION: underline" title="" dataFld=0:0 href="http://events.quadcitieschamber.com/sbaweb/common/attendees.asp?eventcode=NOON 11/13" target=_self><SPAN style="COLOR: windowtext"><FONT color=#0f0f0f>Click here</FONT></SPAN></A><FONT color=#0f0f0f> to see who has already registered for this event! <o:p></o:p></FONT></SPAN></P></DIV>
LOCATION:DHCU Community Credit Union1900 52nd Avenue Moline\, IL 61265
UID:e.2843.279
SEQUENCE:3
DTSTAMP:20260421T152519Z
URL:https://member.quadcitieschamber.com/events/details/network-noon-building-a-strong-network-of-alliances-11-13-2012-279
END:VEVENT

END:VCALENDAR
