BEGIN:VCALENDAR
VERSION:2.0
PRODID:-//ChamberMaster//Event Calendar 2.0//EN
METHOD:PUBLISH
X-PUBLISHED-TTL:P3D
REFRESH-INTERVAL:P3D
CALSCALE:GREGORIAN
BEGIN:VEVENT
DTSTART:20140409T164500Z
DTEND:20140409T180000Z
X-MICROSOFT-CDO-ALLDAYEVENT:FALSE
SUMMARY:Network @ Noon: Business Etiquette
DESCRIPTION:Dining adds a whole new dimension to the business experience\; it is not just a meeting with food. Employers say that a person's table manners (or lack thereof) may be a deciding factor in securing a signed contract. Join Jodie Beach for a program covering the business meal\, beginning to end. What happens around the dining table can remove or deepen doubts\, dampen or heighten expectations. This is 'must have' information for everyone in the business world. Click here to see who is already registered. This event is sponsored by Blackhawk Bank & Trust.
X-ALT-DESC;FMTTYPE=text/html:<P style="MARGIN: 0in 0in 0pt" class=MsoNormal><SPAN style="FONT-FAMILY: 'Arial'\,'sans-serif'\; BACKGROUND: white\; COLOR: black\; FONT-SIZE: 10pt">Dining adds a whole new dimension to the business experience\; it is not just a meeting with food.<SPAN class=apple-converted-space>&nbsp\;</SPAN></SPAN><FONT face=Arial><FONT size=2>Employers say that a person's table manners (or lack thereof) may be a deciding factor in securing a signed contract.<SPAN class=apple-converted-space>&nbsp\;</SPAN>Join Jodie Beach for a </SPAN>program covering the business meal\, beginning to end. What happens around the dining table can remove or deepen doubts\, dampen or heighten expectations. This is 'must have' information for everyone in the business world.</FONT></FONT></P><P style="MARGIN: 0in 0in 0pt" class=MsoNormal><FONT face=Arial><FONT size=2></FONT></FONT>&nbsp\;</P><P style="MARGIN: 0in 0in 0pt" class=MsoNormal><FONT face=Arial><FONT size=2><A dataFld=0:0 href="http://events.quadcitieschamber.com/sbaweb/common/attendees.asp?eventcode=noon 04/14">Click here</A> to see who is already registered.</FONT></FONT></P><DIV><P style="MARGIN: 0in 0in 0pt" class=MsoNormal><SPAN style="mso-bidi-font-size: 10.0pt"><FONT size=2 face=Arial></FONT></SPAN>&nbsp\;</P><P style="MARGIN: 0in 0in 0pt" class=MsoNormal><SPAN style="mso-bidi-font-size: 10.0pt"><FONT size=2 face=Arial>This event is sponsored by Blackhawk Bank &amp\; Trust.</FONT></SPAN></P></DIV>
LOCATION:Holiday Inn Rock Island226 17th Street Ste 1 Rock Island\, IL 61201
UID:e.2843.636
SEQUENCE:3
DTSTAMP:20260422T080523Z
URL:https://member.quadcitieschamber.com/events/details/network-noon-business-etiquette-04-09-2014-636
END:VEVENT

END:VCALENDAR
