BEGIN:VCALENDAR
VERSION:2.0
PRODID:-//ChamberMaster//Event Calendar 2.0//EN
METHOD:PUBLISH
X-PUBLISHED-TTL:P3D
REFRESH-INTERVAL:P3D
CALSCALE:GREGORIAN
BEGIN:VEVENT
DTSTART:20120613T164500Z
DTEND:20120613T180000Z
X-MICROSOFT-CDO-ALLDAYEVENT:FALSE
SUMMARY:Network @ Noon - Community Leaders Roundtable
DESCRIPTION:The Network and United Way's Young Leaders are joining together to bring you this year's annual Community Leaders Roundtable. Join us at St. Ambrose University's Rogalski Center for an hour jam-packed with networking and learning from some of our Quad Cities community leaders. Confirmed leaders include: Bill Stoermer\, Exelon NuclearLorelei Pfautz\, Executive Director\, Friendly HouseDr. Regina Matheson\, Dean of Graduate & Adult Education\, St. Ambrose UniversityTara Barney\, CEO\, Quad Cities Chamber of CommerceJoe Slavens\, President/CEO\, Northwest Bank & Trust CompanyLinda Bowers\, CEO\, LinguiSystemsCaroline Ruhl\, President\, Ruhl & Ruhl REALTORSScott Crane\, President/CEO\, United Way of the Quad Cities AreaCarrie O'Neill\, Wells FargoKim Armstrong\, Asst. Dean of Student Support Services\, Black Hawk CollegeSarah Johnson\, Owner\, Yoga GKent Pilcher\, President\, Estes ConstructionJim Russell\, President/CEO\, Russell ConstructionDr. Mike Oberhaus\, Superintendent\, Rock Island- Milan School District #41Mike Vondran\, President/CEO\, TAG Communications\, Inc.Randy Moore\, President\, Iowa American Water  This event is sponsored by St. Ambrose University Click here to see who has already registered for this event!
X-ALT-DESC;FMTTYPE=text/html:<DIV><P style="MARGIN: 0in 0in 0pt" class=MsoNormal><SPAN style="FONT-FAMILY: 'Arial'\,'sans-serif'\; FONT-SIZE: 10pt\; mso-fareast-font-family: 'Times New Roman'">The Network and United Way's Young Leaders are joining together to bring you this year's annual Community Leaders Roundtable. Join us at St. Ambrose University's Rogalski Center for an hour jam-packed with networking and learning from some of our Quad Cities community leaders. Confirmed leaders include:</SPAN></P><P style="MARGIN: 0in 0in 0pt" class=MsoNormal><SPAN style="FONT-FAMILY: 'Arial'\,'sans-serif'\; FONT-SIZE: 10pt\; mso-fareast-font-family: 'Times New Roman'"></SPAN>&nbsp\;</P><UL><LI><DIV style="MARGIN: 0in 0in 0pt" class=MsoNormal><SPAN style="FONT-FAMILY: 'Arial'\,'sans-serif'\; FONT-SIZE: 10pt\; mso-fareast-font-family: 'Times New Roman'">Bill Stoermer\, Exelon Nuclear</SPAN></DIV><LI><DIV style="MARGIN: 0in 0in 0pt" class=MsoNormal><SPAN style="FONT-FAMILY: 'Arial'\,'sans-serif'\; FONT-SIZE: 10pt\; mso-fareast-font-family: 'Times New Roman'">Lorelei Pfautz\, Executive Director\, Friendly House</SPAN></DIV><LI><DIV style="MARGIN: 0in 0in 0pt" class=MsoNormal><SPAN style="FONT-FAMILY: 'Arial'\,'sans-serif'\; FONT-SIZE: 10pt\; mso-fareast-font-family: 'Times New Roman'">Dr. Regina Matheson\, Dean of Graduate &amp\; Adult Education\, St. Ambrose University</SPAN></DIV><LI><DIV style="MARGIN: 0in 0in 0pt" class=MsoNormal><SPAN style="FONT-FAMILY: 'Arial'\,'sans-serif'\; FONT-SIZE: 10pt\; mso-fareast-font-family: 'Times New Roman'">Tara Barney\, CEO\, Quad Cities Chamber of Commerce</SPAN></DIV><LI><DIV style="MARGIN: 0in 0in 0pt" class=MsoNormal><SPAN style="FONT-FAMILY: 'Arial'\,'sans-serif'\; FONT-SIZE: 10pt\; mso-fareast-font-family: 'Times New Roman'">Joe Slavens\, President/CEO\, Northwest Bank &amp\; Trust Company</SPAN></DIV><LI><DIV style="MARGIN: 0in 0in 0pt" class=MsoNormal><SPAN style="FONT-FAMILY: 'Arial'\,'sans-serif'\; FONT-SIZE: 10pt\; mso-fareast-font-family: 'Times New Roman'">Linda Bowers\, CEO\, LinguiSystems</SPAN></DIV><LI><DIV style="MARGIN: 0in 0in 0pt" class=MsoNormal><SPAN style="FONT-FAMILY: 'Arial'\,'sans-serif'\; FONT-SIZE: 10pt\; mso-fareast-font-family: 'Times New Roman'">Caroline Ruhl\, President\, Ruhl &amp\; Ruhl REALTORS</SPAN></DIV><LI><DIV style="MARGIN: 0in 0in 0pt" class=MsoNormal><SPAN style="FONT-FAMILY: 'Arial'\,'sans-serif'\; FONT-SIZE: 10pt\; mso-fareast-font-family: 'Times New Roman'">Scott Crane\, President/CEO\, United Way of the Quad Cities Area</SPAN></DIV><LI><DIV style="MARGIN: 0in 0in 0pt" class=MsoNormal><SPAN style="FONT-FAMILY: 'Arial'\,'sans-serif'\; FONT-SIZE: 10pt\; mso-fareast-font-family: 'Times New Roman'">Carrie O'Neill\, Wells Fargo</SPAN></DIV><LI><DIV style="MARGIN: 0in 0in 0pt" class=MsoNormal><SPAN style="FONT-FAMILY: 'Arial'\,'sans-serif'\; FONT-SIZE: 10pt\; mso-fareast-font-family: 'Times New Roman'">Kim Armstrong\, Asst. Dean of Student Support Services\, Black Hawk College</SPAN></DIV><LI><DIV style="MARGIN: 0in 0in 0pt" class=MsoNormal><SPAN style="FONT-FAMILY: 'Arial'\,'sans-serif'\; FONT-SIZE: 10pt\; mso-fareast-font-family: 'Times New Roman'">Sarah Johnson\, Owner\, Yoga G</SPAN></DIV><LI><DIV style="MARGIN: 0in 0in 0pt" class=MsoNormal><SPAN style="FONT-FAMILY: 'Arial'\,'sans-serif'\; FONT-SIZE: 10pt\; mso-fareast-font-family: 'Times New Roman'">Kent Pilcher\, President\,&nbsp\;Estes Construction</SPAN></DIV><LI><DIV style="MARGIN: 0in 0in 0pt" class=MsoNormal><SPAN style="FONT-FAMILY: 'Arial'\,'sans-serif'\; FONT-SIZE: 10pt\; mso-fareast-font-family: 'Times New Roman'">Jim Russell\, President/CEO\, Russell Construction</SPAN></DIV><LI><DIV style="MARGIN: 0in 0in 0pt" class=MsoNormal><SPAN style="FONT-FAMILY: 'Arial'\,'sans-serif'\; FONT-SIZE: 10pt\; mso-fareast-font-family: 'Times New Roman'">Dr. Mike Oberhaus\, Superintendent\, Rock Island- Milan School District #41</SPAN></DIV><LI><DIV style="MARGIN: 0in 0in 0pt" class=MsoNormal><SPAN style="FONT-FAMILY: 'Arial'\,'sans-serif'\; FONT-SIZE: 10pt\; mso-fareast-font-family: 'Times New Roman'">Mike Vondran\, President/CEO\, TAG Communications\, Inc.</SPAN></DIV><LI><DIV style="MARGIN: 0in 0in 0pt" class=MsoNormal><SPAN style="FONT-FAMILY: 'Arial'\,'sans-serif'\; FONT-SIZE: 10pt\; mso-fareast-font-family: 'Times New Roman'">Randy Moore\, President\,&nbsp\;Iowa American Water </SPAN></DIV></LI></UL><P style="MARGIN: 0in 0in 0pt" class=MsoNormal><SPAN style="FONT-FAMILY: 'Arial'\,'sans-serif'\; FONT-SIZE: 10pt\; mso-fareast-font-family: 'Times New Roman'">&nbsp\;<?xml:namespace prefix = o ns = "urn:schemas-microsoft-com:office:office" /><o:p></o:p></SPAN></P><P style="MARGIN: 0in 0in 0pt" class=MsoNormal><SPAN style="FONT-FAMILY: 'Arial'\,'sans-serif'\; FONT-SIZE: 10pt\; mso-fareast-font-family: 'Times New Roman'">This event is sponsored by St. Ambrose University</SPAN></P><P style="MARGIN: 0in 0in 0pt" class=MsoNormal><SPAN style="FONT-FAMILY: 'Arial'\,'sans-serif'\; FONT-SIZE: 10pt\; mso-fareast-font-family: 'Times New Roman'"></SPAN>&nbsp\;</P><P style="MARGIN: 0in 0in 0pt\; mso-margin-top-alt: auto\; mso-margin-bottom-alt: auto" class=MsoNormal><SPAN style="FONT-FAMILY: 'Arial'\,'sans-serif'\; FONT-SIZE: 10pt\; mso-fareast-font-family: 'Times New Roman'"><A style="COLOR: blue\; TEXT-DECORATION: underline" title="" dataFld=0:0 href="http://events.quadcitieschamber.com/sbaweb/common/attendees.asp?eventcode=NOON 06/12" target=_self><SPAN style="COLOR: windowtext">Click here</SPAN></A> to see who has already registered for this event! <o:p></o:p></SPAN></P></DIV>
LOCATION:St. Ambrose University518 W. Locust St. Davenport\, IA 52803
UID:e.2843.274
SEQUENCE:3
DTSTAMP:20260421T105910Z
URL:https://member.quadcitieschamber.com/events/details/network-noon-community-leaders-roundtable-06-13-2012-274
END:VEVENT

END:VCALENDAR
