BEGIN:VCALENDAR
VERSION:2.0
PRODID:-//ChamberMaster//Event Calendar 2.0//EN
METHOD:PUBLISH
X-PUBLISHED-TTL:P3D
REFRESH-INTERVAL:P3D
CALSCALE:GREGORIAN
BEGIN:VEVENT
DTSTART:20110621T164500Z
DTEND:20110621T180000Z
X-MICROSOFT-CDO-ALLDAYEVENT:FALSE
SUMMARY:Network @ Noon: Community Leaders Roundtable
DESCRIPTION:Join us for the annual Community Leaders Roundtable on Tuesday\, June 21st at St. Ambrose University.  Attendees will have the opportunity to engage in dynamic conversations with over 15 Quad-City community leaders at this event.  Each table will feature a different community leader\, allowing you to have an insightful discussion with some of the QC top leaders. Some of the community leaders in attendance will be: Tara Barney\, CEO\, Quad Cities Chamber of CommerceJoe Slavens\, President/CEO\, Northwest Bank & Trust CompanyPat Saunders\, Modern Woodmen of AmericaTanisha Briley\, City of DavenportDave Green\, CEO\, Mississippi Valley Regional Blood CenterBill Stoermer\, Exelon NuclearMolly Foley\, Next Generation Consulting Marie Ziegler\, Vice President and Treasurer\, Deere & Company  This event is sponsored by St. Ambrose University.
X-ALT-DESC;FMTTYPE=text/html:<P class=MsoNormal style="MARGIN: 0in 0in 0pt"><SPAN style="COLOR: black">Join us for the annual <STRONG>Community Leaders Roundtable</STRONG> on <STRONG>Tuesday\, June 21<SUP>st</SUP></STRONG> at <STRONG>St. Ambrose University</STRONG>.&nbsp\; Attendees will have the opportunity to engage in dynamic conversations with over 15 Quad-City community leaders at this event.&nbsp\; Each table will feature a different community leader\, allowing you to have an insightful discussion with some of the QC top leaders. Some of the community leaders in attendance will be:</SPAN></P><P class=MsoNormal style="MARGIN: 0in 0in 0pt"><SPAN style="COLOR: black"></SPAN>&nbsp\;</P><SPAN style="COLOR: black"><UL style="MARGIN-TOP: 0in" type=disc><LI class=MsoNormal style="MARGIN: 0in 0in 0pt\; COLOR: black\; mso-list: l0 level1 lfo1\; tab-stops: list .5in"><SPAN style="FONT-SIZE: 10pt\; FONT-FAMILY: 'Arial'\,'sans-serif'"><FONT face="Times New Roman"><FONT size=3>Tara Barney\, CEO\, Quad Cities Chamber of Commerce<?xml:namespace prefix = o ns = "urn:schemas-microsoft-com:office:office" /><o:p></o:p></FONT></FONT></SPAN></LI><LI class=MsoNormal style="MARGIN: 0in 0in 0pt\; COLOR: black\; mso-list: l0 level1 lfo1\; tab-stops: list .5in"><SPAN style="FONT-SIZE: 10pt\; FONT-FAMILY: 'Arial'\,'sans-serif'"><FONT face="Times New Roman"><FONT size=3>Joe Slavens\, President/CEO\, Northwest Bank &amp\; Trust Company<o:p></o:p></FONT></FONT></SPAN></LI><LI class=MsoNormal style="MARGIN: 0in 0in 0pt\; COLOR: black\; mso-list: l0 level1 lfo1\; tab-stops: list .5in"><SPAN style="FONT-SIZE: 10pt\; FONT-FAMILY: 'Arial'\,'sans-serif'"><FONT face="Times New Roman"><FONT size=3>Pat Saunders\, Modern Woodmen of America<o:p></o:p></FONT></FONT></SPAN></LI><LI class=MsoNormal style="MARGIN: 0in 0in 0pt\; COLOR: black\; mso-list: l0 level1 lfo1\; tab-stops: list .5in"><SPAN style="FONT-SIZE: 10pt\; FONT-FAMILY: 'Arial'\,'sans-serif'"><FONT face="Times New Roman"><FONT size=3>Tanisha Briley\, City of Davenport<o:p></o:p></FONT></FONT></SPAN></LI><LI class=MsoNormal style="MARGIN: 0in 0in 0pt\; COLOR: black\; mso-list: l0 level1 lfo1\; tab-stops: list .5in"><SPAN style="FONT-SIZE: 10pt\; FONT-FAMILY: 'Arial'\,'sans-serif'"><FONT face="Times New Roman"><FONT size=3>Dave Green\, CEO\, Mississippi Valley Regional Blood Center<o:p></o:p></FONT></FONT></SPAN></LI><LI class=MsoNormal style="MARGIN: 0in 0in 0pt\; COLOR: black\; mso-list: l0 level1 lfo1\; tab-stops: list .5in"><SPAN style="FONT-SIZE: 10pt\; FONT-FAMILY: 'Arial'\,'sans-serif'"><FONT face="Times New Roman"><FONT size=3>Bill Stoermer\, Exelon Nuclear<o:p></o:p></FONT></FONT></SPAN></LI><LI class=MsoNormal style="MARGIN: 0in 0in 0pt\; COLOR: black\; mso-list: l0 level1 lfo1\; tab-stops: list .5in"><SPAN style="FONT-SIZE: 10pt\; FONT-FAMILY: 'Arial'\,'sans-serif'"><FONT face="Times New Roman"><FONT size=3>Molly Foley\, Next Generation Consulting&nbsp\;<o:p></o:p></FONT></FONT></SPAN></LI><LI class=MsoNormal style="MARGIN: 0in 0in 0pt\; COLOR: black\; mso-list: l0 level1 lfo1\; tab-stops: list .5in"><SPAN style="FONT-SIZE: 10pt\; FONT-FAMILY: 'Arial'\,'sans-serif'"><FONT face="Times New Roman"><FONT size=3>Marie Ziegler\, Vice President and Treasurer\, Deere &amp\; Company&nbsp\;<o:p></o:p></FONT></FONT></SPAN></LI></UL></SPAN><P class=MsoNormal style="MARGIN: 0in 0in 0pt"><SPAN style="COLOR: black"><o:p>&nbsp\;</o:p></SPAN></P><P class=MsoNormal style="MARGIN: 0in 0in 0pt"><SPAN style="COLOR: black">This event is sponsored by St. Ambrose University.<o:p></o:p></SPAN></P><DIV>&nbsp\;</DIV>
LOCATION:St. Ambrose University518 W. Locust St. Davenport\, IA 52803
UID:e.2843.171
SEQUENCE:3
DTSTAMP:20260422T230710Z
URL:https://member.quadcitieschamber.com/events/details/network-noon-community-leaders-roundtable-06-21-2011-171
END:VEVENT

END:VCALENDAR
