BEGIN:VCALENDAR
VERSION:2.0
PRODID:-//ChamberMaster//Event Calendar 2.0//EN
METHOD:PUBLISH
X-PUBLISHED-TTL:P3D
REFRESH-INTERVAL:P3D
CALSCALE:GREGORIAN
BEGIN:VEVENT
DTSTART:20111011T164500Z
DTEND:20111011T180000Z
X-MICROSOFT-CDO-ALLDAYEVENT:FALSE
SUMMARY:Network @ Noon: Entrepreneurship
DESCRIPTION:This month's Network @ Noon event will feature a group of YP entrepreneurs willing to share their successes\, struggles and passion with the group. Confirmed panelists include:Tom Terronez\, Terrostar Technology Solutions\, LLCRyan Burchet\, Mississippi River Distilling CompanyNatalie Linville-Mass\, Media Link\, Inc.Irish Dog Bloody Mary MixLimited seating is available at this event. This event is sponsored by DHCU Community Credit Union
X-ALT-DESC;FMTTYPE=text/html:<DIV><P style="MARGIN: 0in 0in 0pt\; FONT-FAMILY: Verdana\, Geneva\; FONT-SIZE: 10pt" _mce_style="margin: 0in 0in 0pt\; font-family: Verdana\, Geneva\; font-size: 10pt\;"><SPAN style="COLOR: black" _mce_style="color: black\;">This month's Network @ Noon event will feature a group of YP entrepreneurs willing to share their successes\, struggles and passion with the group. Confirmed panelists include:</SPAN></P><UL><LI><DIV style="MARGIN: 0in 0in 0pt\; FONT-FAMILY: Verdana\, Geneva\; FONT-SIZE: 10pt" _mce_style="margin: 0in 0in 0pt\; font-family: Verdana\, Geneva\; font-size: 10pt\;"><SPAN style="COLOR: black" _mce_style="color: black\;">Tom Terronez\, Terrostar Technology Solutions\, LLC</SPAN></DIV><LI><DIV style="MARGIN: 0in 0in 0pt\; FONT-FAMILY: Verdana\, Geneva\; FONT-SIZE: 10pt" _mce_style="margin: 0in 0in 0pt\; font-family: Verdana\, Geneva\; font-size: 10pt\;"><SPAN style="COLOR: black" _mce_style="color: black\;">Ryan Burchet\, Mississippi River Distilling Company</SPAN></DIV><LI><DIV style="MARGIN: 0in 0in 0pt\; FONT-FAMILY: Verdana\, Geneva\; FONT-SIZE: 10pt" _mce_style="margin: 0in 0in 0pt\; font-family: Verdana\, Geneva\; font-size: 10pt\;"><SPAN style="COLOR: black" _mce_style="color: black\;">Natalie Linville-Mass\, Media Link\, Inc.</SPAN></DIV><LI><DIV style="MARGIN: 0in 0in 0pt\; FONT-FAMILY: Verdana\, Geneva\; FONT-SIZE: 10pt" _mce_style="margin: 0in 0in 0pt\; font-family: Verdana\, Geneva\; font-size: 10pt\;"><SPAN style="COLOR: black" _mce_style="color: black\;">Irish Dog Bloody Mary Mix</SPAN></DIV></LI></UL><P style="MARGIN: 0in 0in 0pt\; FONT-FAMILY: Verdana\, Geneva\; FONT-SIZE: 10pt" _mce_style="margin: 0in 0in 0pt\; font-family: Verdana\, Geneva\; font-size: 10pt\;"><SPAN style="COLOR: black" _mce_style="color: black\;">Limited seating is available at this event.</SPAN></P><P style="MARGIN: 0in 0in 0pt\; FONT-FAMILY: Verdana\, Geneva\; FONT-SIZE: 10pt" _mce_style="margin: 0in 0in 0pt\; font-family: Verdana\, Geneva\; font-size: 10pt\;"><SPAN style="COLOR: black" _mce_style="color: black\;"></SPAN>&nbsp\;</P><P style="MARGIN: 0in 0in 0pt\; FONT-FAMILY: Verdana\, Geneva\; FONT-SIZE: 10pt" _mce_style="margin: 0in 0in 0pt\; font-family: Verdana\, Geneva\; font-size: 10pt\;"><SPAN style="COLOR: black" _mce_style="color: black\;">This event is sponsored by DHCU Community Credit Union</SPAN></P></DIV>
LOCATION:DHCU Community Credit Union1900 52nd Avenue Moline\, IL 61265
UID:e.2843.238
SEQUENCE:3
DTSTAMP:20260422T124842Z
URL:https://member.quadcitieschamber.com/events/details/network-noon-entrepreneurship-10-11-2011-238
END:VEVENT

END:VCALENDAR
