BEGIN:VCALENDAR
VERSION:2.0
PRODID:-//ChamberMaster//Event Calendar 2.0//EN
METHOD:PUBLISH
X-PUBLISHED-TTL:P3D
REFRESH-INTERVAL:P3D
CALSCALE:GREGORIAN
BEGIN:VEVENT
DTSTART:20110712T164500Z
DTEND:20110712T180000Z
X-MICROSOFT-CDO-ALLDAYEVENT:FALSE
SUMMARY:Network @ Noon: Exploring the Housing Market
DESCRIPTION:Join The Network for our July Program at the Rock Island Arsenal Golf Club! We'll be exploring the housing market with a panel of expert YPs. Learn everything from why you should invest as a homebuyer to how to make your home more valuable. We'll also touch on home loans and tax incentives that could benefit you when making this big investment! You’ll learn:- What first time homebuyers should know.- Why is now a good time to buy? Low interest rates and lower prices.- How to get a loan\, how to build your credit- Advantages to investing in real estate- How do you increase the value of your home\, what improvements should you make when you are trying to sell your homeThis event is sponsored by Ascentra Credit Union
X-ALT-DESC;FMTTYPE=text/html:<P style="MARGIN: 0in 0in 0pt"><SPAN style="COLOR: black"><FONT color=#000000>Join The Network for our July Program at the Rock Island Arsenal Golf Club! We'll be exploring the housing market with a panel of expert YPs. Learn everything from why you should invest as a homebuyer to how to make your home more valuable. We'll also touch on home loans and tax&nbsp\;incentives that could benefit you when making this big investment!<?xml:namespace prefix = o ns = "urn:schemas-microsoft-com:office:office" /><o:p></o:p></FONT></SPAN></P><P class=MsoNormal style="MARGIN: 0in 0in 10pt"><SPAN style="FONT-SIZE: 12pt\; LINE-HEIGHT: 115%\; FONT-FAMILY: 'Times New Roman'\,'serif'"><o:p><FONT color=#000000>&nbsp\;</FONT></o:p></SPAN></P><P class=MsoNormal style="MARGIN: 0in 0in 10pt"><SPAN style="FONT-SIZE: 12pt\; LINE-HEIGHT: 115%\; FONT-FAMILY: 'Times New Roman'\,'serif'"><FONT color=#000000>You’ll learn:<o:p></o:p></FONT></SPAN></P><P class=MsoNormal style="MARGIN: 0in 0in 10pt"><SPAN style="FONT-SIZE: 12pt\; COLOR: #17365d\; LINE-HEIGHT: 115%\; FONT-FAMILY: 'Times New Roman'\,'serif'"><FONT color=#000000>- What first time homebuyers should know.<o:p></o:p></FONT></SPAN></P><P class=MsoNormal style="MARGIN: 0in 0in 10pt"><SPAN style="FONT-SIZE: 12pt\; COLOR: #17365d\; LINE-HEIGHT: 115%\; FONT-FAMILY: 'Times New Roman'\,'serif'"><FONT color=#000000>- Why is now a good time to buy? Low interest rates and lower prices.<o:p></o:p></FONT></SPAN></P><P class=MsoNormal style="MARGIN: 0in 0in 10pt"><SPAN style="FONT-SIZE: 12pt\; COLOR: #17365d\; LINE-HEIGHT: 115%\; FONT-FAMILY: 'Times New Roman'\,'serif'"><FONT color=#000000>- How to get a loan\, how to build your credit<o:p></o:p></FONT></SPAN></P><P class=MsoNormal style="MARGIN: 0in 0in 10pt"><SPAN style="FONT-SIZE: 12pt\; COLOR: #17365d\; LINE-HEIGHT: 115%\; FONT-FAMILY: 'Times New Roman'\,'serif'"><FONT color=#000000>- Advantages to investing in real estate<o:p></o:p></FONT></SPAN></P><P class=MsoNormal style="MARGIN: 0in 0in 10pt"><SPAN style="FONT-SIZE: 12pt\; COLOR: #17365d\; LINE-HEIGHT: 115%\; FONT-FAMILY: 'Times New Roman'\,'serif'"><FONT color=#000000>- How do you increase the value of your home\, what improvements should you make when you are trying to sell your home<o:p></o:p></FONT></SPAN></P><P class=MsoNormal style="MARGIN: 0in 0in 10pt"><SPAN style="FONT-SIZE: 12pt\; LINE-HEIGHT: 115%\; FONT-FAMILY: 'Times New Roman'\,'serif'"><FONT color=#000000><STRONG>This event is sponsored by Ascentra Credit Union<o:p></o:p></STRONG></FONT></SPAN></P><P>&nbsp\;</P>
LOCATION:Rock Island Arsenal Golf Club
UID:e.2843.184
SEQUENCE:3
DTSTAMP:20260422T181634Z
URL:https://member.quadcitieschamber.com/events/details/network-noon-exploring-the-housing-market-07-12-2011-184
END:VEVENT

END:VCALENDAR
